BEGIN:VCALENDAR
VERSION:2.0
PRODID:-//The Northern Miner - ECPv6.5.0.1//NONSGML v1.0//EN
CALSCALE:GREGORIAN
METHOD:PUBLISH
X-ORIGINAL-URL:https://www.northernminer.com
X-WR-CALDESC:Events for The Northern Miner
REFRESH-INTERVAL;VALUE=DURATION:PT1H
X-Robots-Tag:noindex
X-PUBLISHED-TTL:PT1H
BEGIN:VTIMEZONE
TZID:America/Toronto
BEGIN:DAYLIGHT
TZOFFSETFROM:-0500
TZOFFSETTO:-0400
TZNAME:EDT
DTSTART:20250309T070000
END:DAYLIGHT
BEGIN:STANDARD
TZOFFSETFROM:-0400
TZOFFSETTO:-0500
TZNAME:EST
DTSTART:20251102T060000
END:STANDARD
END:VTIMEZONE
BEGIN:VEVENT
DTSTART;TZID=America/Toronto:20251130T080000
DTEND;TZID=America/Toronto:20251201T170000
DTSTAMP:20260420T000706
CREATED:20250722T170333Z
LAST-MODIFIED:20250722T170333Z
UID:1003880782-1764489600-1764608400@www.northernminer.com
SUMMARY:TNM International Metals Symposium - London
DESCRIPTION:The Northern Miner’s International Metals Symposium returns this winter with a lineup of keynote speakers representing some of the most senior executives in the industry. Rick Rule\, Rob McEwen and Mark Cutifani will deliver some of the main speeches at the event that brings together the main leaders and big investors to share ideas\, and discover the projects that will be the next producers.
URL:https://www.northernminer.com/event/tnm-international-metals-symposium-london/
LOCATION:ETC Venue\, London\, United Kingdom
CATEGORIES:Conference,Keynote Address,Symposium
ATTACH;FMTTYPE=image/png:https://www.northernminer.com/wp-content/uploads/2025/07/Screenshot-215.png
END:VEVENT
BEGIN:VEVENT
DTSTART;TZID=America/Toronto:20251201T080000
DTEND;TZID=America/Toronto:20251201T170000
DTSTAMP:20260420T000706
CREATED:20250722T164926Z
LAST-MODIFIED:20250722T165028Z
UID:1003880777-1764576000-1764608400@www.northernminer.com
SUMMARY:Resourcing Tomorrow Government Roundtable – London
DESCRIPTION:The Resourcing Tomorrow Government Roundtable will together more than 20 ministers and senior industry executives for discussions on the future of critical minerals and their role in shaping global policy frameworks. The invite-only event will be a platform to explore innovative strategies for advancing a sustainable energy transition.
URL:https://www.northernminer.com/event/resourcing-tomorrow-government-roundtable-london/
LOCATION:London Stock Exchange\, London\, United Kingdom
CATEGORIES:Conference,Meeting
ATTACH;FMTTYPE=image/png:https://www.northernminer.com/wp-content/uploads/2025/07/Screenshot-214.png
END:VEVENT
BEGIN:VEVENT
DTSTART;TZID=America/Toronto:20251201T080000
DTEND;TZID=America/Toronto:20251201T170000
DTSTAMP:20260420T000706
CREATED:20250722T205141Z
LAST-MODIFIED:20250722T205141Z
UID:1003880789-1764576000-1764608400@www.northernminer.com
SUMMARY:Critical Mineral Association (UK) 5th Annual Conference - London
DESCRIPTION:The fifth edition of the conference welcomes experts from across the world to explore the future of responsible critical mineral supply chains.
URL:https://www.northernminer.com/event/critical-mineral-association-uk-5th-annual-conference-london/
LOCATION:Royal College of Medicine\, London\, United Kingdom
CATEGORIES:Conference,Meeting
ATTACH;FMTTYPE=image/png:https://www.northernminer.com/wp-content/uploads/2025/07/xm40nz3n.png
END:VEVENT
BEGIN:VEVENT
DTSTART;TZID=America/Toronto:20251201T080000
DTEND;TZID=America/Toronto:20251201T170000
DTSTAMP:20260420T000706
CREATED:20250722T212146Z
LAST-MODIFIED:20250722T212146Z
UID:1003880803-1764576000-1764608400@www.northernminer.com
SUMMARY:MINEX Eurasia 2025 - London
DESCRIPTION:MINEX Eurasia is the U.K.’s premier annual forum dedicated to mining and investment in Eastern and Central Europe\, Russia\, Central Asia\, Caucuses and Mongolia. The event focuses on industry trends and business prospects across Eurasia.
URL:https://www.northernminer.com/event/minex-eurasia-2025-london/
LOCATION:Simmons & Simmons\, London\, United Kingdom
CATEGORIES:Conference,Meeting,Networking event
ATTACH;FMTTYPE=image/png:https://www.northernminer.com/wp-content/uploads/2025/07/on382t1i.png
END:VEVENT
BEGIN:VEVENT
DTSTART;TZID=America/Toronto:20251201T080000
DTEND;TZID=America/Toronto:20251203T170000
DTSTAMP:20260420T000706
CREATED:20251121T221756Z
LAST-MODIFIED:20251121T221756Z
UID:1003884886-1764576000-1764781200@www.northernminer.com
SUMMARY:Saskatchewan Geological Open House - Saskatoon
DESCRIPTION:Co-hosted by the Saskatchewan Geological Survey (Ministry of Energy and Resources\, Government of Saskatchewan)\, and the independent\, non-profit Saskatchewan Geological Society\, this event fulfills the mandates of both groups by profiling high-quality geoscience in support of Saskatchewan’s mineral industry while promoting earth sciences in the public at large. \nThe Open House remains the premier annual meeting venue for mining and mineral exploration companies active in Saskatchewan with over 700 local\, national\, and international delegates attending annually.\n​\nEach year\, the Open House features a strong technical program that begins Tuesday morning and concludes Wednesday afternoon. The program will profile the geoscience endeavors of the Saskatchewan Geological Survey and feature a number of talks from academia and industry that highlight various Saskatchewan exploration and development projects as well as advances in exploration techniques. An IceBreaker evening\, trade show\, poster session\, and short courses round out the event.
URL:https://www.northernminer.com/event/saskatchewan-geological-open-house-saskatoon/
LOCATION:Delta Bessborough Hotel\, Saskatoon\, Saskatchewan\, Canada
CATEGORIES:Conference,Networking event,Seminar
ATTACH;FMTTYPE=image/png:https://www.northernminer.com/wp-content/uploads/2025/11/Screenshot-36.png
END:VEVENT
BEGIN:VEVENT
DTSTART;TZID=America/Toronto:20251202T080000
DTEND;TZID=America/Toronto:20251203T170000
DTSTAMP:20260420T000706
CREATED:20251126T174147Z
LAST-MODIFIED:20251126T174147Z
UID:1003885091-1764662400-1764781200@www.northernminer.com
SUMMARY:Challenges and Best Practices in Metal Leaching and Acid Rock Drainage - Vancouver
DESCRIPTION:Leading practitioners will illustrate challenges and best practices in metal leaching and acid rock drainage. \nThe workshop will focus on field-scale research and operational experience. Case studies will be drawn from mine sites around the world.
URL:https://www.northernminer.com/event/challenges-and-best-practices-in-metal-leaching-and-acid-rock-drainage-vancouver/
LOCATION:Pinnacle Hotel Harbourfront\, Vancouver\, British Columbia\, Canada
CATEGORIES:Presentation,Seminar
ATTACH;FMTTYPE=image/png:https://www.northernminer.com/wp-content/uploads/2025/11/2f8bsv0h.png
END:VEVENT
BEGIN:VEVENT
DTSTART;TZID=America/Toronto:20251202T080000
DTEND;TZID=America/Toronto:20251204T170000
DTSTAMP:20260420T000706
CREATED:20250507T200317Z
LAST-MODIFIED:20250507T200317Z
UID:1003878361-1764662400-1764867600@www.northernminer.com
SUMMARY:Resourcing Tomorrow - London
DESCRIPTION:Resourcing Tomorrow comes to London in December for a forum on driving real change in the mining sector. Key topics on the agenda include securing critical minerals\, navigating international geopolitics\, advancing sustainability in mining and fostering cross industry innovation. \nMore than 2\,000 attendees including mining companies\, government ministers\, investors\, financial institutions\, energy leaders\, policymakers and solution providers worldwide are expected to attend.
URL:https://www.northernminer.com/event/resourcing-tomorrow-london/
LOCATION:Business Design Centre\, 52 Upper St\, London\, United Kingdom
CATEGORIES:Conference,Convention,Forum,Keynote Address
ATTACH;FMTTYPE=image/png:https://www.northernminer.com/wp-content/uploads/2025/05/Screenshot-179.png
END:VEVENT
BEGIN:VEVENT
DTSTART;TZID=America/Toronto:20251209T080000
DTEND;TZID=America/Toronto:20251210T170000
DTSTAMP:20260420T000706
CREATED:20251126T173515Z
LAST-MODIFIED:20251126T173515Z
UID:1003885087-1765267200-1765386000@www.northernminer.com
SUMMARY:HSE Global Mining Learning Event - Vancouver\, B.C.
DESCRIPTION:The HSE Mining Learning Summit\, dedicated to advancing workplace culture\, health\, and safety\, critical to the B.C. mining industry. \nThis conference is intended for strategic and operational leaders\, including worker and management representatives of occupational health and safety committees\, safety superintendents\, and others representing mining operations and beyond. \nThis conference offers a unique opportunity to engage with industry experts and the mining regulator to explore innovative solutions to the challenges faced in ensuring the well-being of the workforce.
URL:https://www.northernminer.com/event/hse-global-mining-learning-event-vancouver-b-c/
LOCATION:The River Rock Casino Resort\, Vancouver\, British Columbia\, Canada
CATEGORIES:Conference,Information session,Networking event,Panel Discussion
ATTACH;FMTTYPE=image/png:https://www.northernminer.com/wp-content/uploads/2025/11/Screenshot-50.png
END:VEVENT
BEGIN:VEVENT
DTSTART;TZID=America/Toronto:20251210T080000
DTEND;TZID=America/Toronto:20251211T170000
DTSTAMP:20260420T000706
CREATED:20250709T163627Z
LAST-MODIFIED:20250718T131633Z
UID:1003880293-1765353600-1765472400@www.northernminer.com
SUMMARY:Mining & Critical Minerals Latin America Conference and Exhibition – São Paulo\, Brazil
DESCRIPTION:The Mining and Critical Minerals Latin America Conference offers a platform for global thought leaders\, CEOs\, government ministers\, and industry experts to debate and address some of the biggest challenges and help shape the future of mining sector in Latin America.  \nThe two-day conference will feature keynote presentations\, cross-industry panels\, and in-depth case studies examining trends and dynamics of the commodities and critical minerals industry and their role in the energy transition. Discussions will also focus on the adoption of innovative technologies and sustainable practices which are crucial for navigating the complexities of mining investments. \nThe event is expected to host 40 speakers and more than 150 delegates from 20 countries. 
URL:https://www.northernminer.com/event/mining-critical-minerals-latin-america-conference-and-exhibition-sao-paulo-brazil/
LOCATION:DoubleTree by Hilton São Paulo Itaim\, São Paulo\, Brazil
CATEGORIES:Conference,Keynote Address,Panel Discussion,Presentation
ATTACH;FMTTYPE=image/jpeg:https://www.northernminer.com/wp-content/uploads/2025/07/Event-Logo-Mining-Critical-Minerals-Latin-America-Expo-scaled.jpg
END:VEVENT
END:VCALENDAR