BEGIN:VCALENDAR
VERSION:2.0
PRODID:-//The Northern Miner - ECPv6.5.0.1//NONSGML v1.0//EN
CALSCALE:GREGORIAN
METHOD:PUBLISH
X-WR-CALNAME:The Northern Miner
X-ORIGINAL-URL:https://www.northernminer.com
X-WR-CALDESC:Events for The Northern Miner
REFRESH-INTERVAL;VALUE=DURATION:PT1H
X-Robots-Tag:noindex
X-PUBLISHED-TTL:PT1H
BEGIN:VTIMEZONE
TZID:America/Toronto
BEGIN:DAYLIGHT
TZOFFSETFROM:-0500
TZOFFSETTO:-0400
TZNAME:EDT
DTSTART:20250309T070000
END:DAYLIGHT
BEGIN:STANDARD
TZOFFSETFROM:-0400
TZOFFSETTO:-0500
TZNAME:EST
DTSTART:20251102T060000
END:STANDARD
END:VTIMEZONE
BEGIN:VEVENT
DTSTART;TZID=America/Toronto:20250707T080000
DTEND;TZID=America/Toronto:20250711T170000
DTSTAMP:20260419T221025
CREATED:20250324T220128Z
LAST-MODIFIED:20250324T220128Z
UID:1003877003-1751875200-1752253200@www.northernminer.com
SUMMARY:Rule Symposium 2025 - Boca Raton\, Fla.
DESCRIPTION:The Rule Symposium on natural resource and commodities investing returns this year summer to Boca Raton for four days of panel sessions\, keynote speeches and presentations.
URL:https://www.northernminer.com/event/rule-symposium-2025-boca-raton-fla/
LOCATION:Mizner Center\, Boca Raton\, FL\, United States
CATEGORIES:Conference,Forum,Keynote Address,Panel Discussion,Presentation
ATTACH;FMTTYPE=image/png:https://www.northernminer.com/wp-content/uploads/2025/03/Screenshot-139.png
END:VEVENT
BEGIN:VEVENT
DTSTART;TZID=America/Toronto:20250718T080000
DTEND;TZID=America/Toronto:20250720T170000
DTSTAMP:20260419T221025
CREATED:20250709T211711Z
LAST-MODIFIED:20250709T211711Z
UID:1003880317-1752825600-1753030800@www.northernminer.com
SUMMARY:TSX Venture Growth Capital Event - Kelowna\, B.C.
DESCRIPTION:The sixth annual TSX Venture Growth Capital Event takes place at the Delta Grand Okanagan Resort this month. This event is an exclusive\, private opportunity for companies on the TSX Venture Exchange to meet with active and engaged investors in the venture market space through specific investor meetings\, networking activities as well as golf and wine tours. \n  \n 
URL:https://www.northernminer.com/event/tsx-venture-growth-capital-event-kelowna-b-c/
LOCATION:Delta Hotels by Marriott Grand Okanagan Resort\, Kelowna\, British Columbia\, Canada
CATEGORIES:Conference,Meeting,Networking event
ATTACH;FMTTYPE=image/png:https://www.northernminer.com/wp-content/uploads/2025/07/CEM_Event_up48q7.png
END:VEVENT
BEGIN:VEVENT
DTSTART;TZID=America/Toronto:20250729T080000
DTEND;TZID=America/Toronto:20250730T170000
DTSTAMP:20260419T221025
CREATED:20241218T211111Z
LAST-MODIFIED:20241218T211111Z
UID:1003874122-1753776000-1753894800@www.northernminer.com
SUMMARY:Life of Mine | Mine Waste and Tailings Conference 2025 - Brisbane
DESCRIPTION:For the first time\, AusIMM’s Life of Mine Conference and Mine Waste and Tailings Conference will merge into a single event\, allowing for a wider scope and more opportunities for knowledge-sharing\, innovation\, and collaboration. \nThe combined audiences will be able to collaborate more widely on mine development\, sustainability\, waste management and environmental responsibility. \nThe two-day event will feature an expanded technical program\, with insights from experts from across the full mine lifecycle\, from initial development through to sustainable waste management and closure.
URL:https://www.northernminer.com/event/life-of-mine-mine-waste-and-tailings-conference-2025-brisbane/
LOCATION:Brisbane Convention and Exhibition Centre\, Brisbane\, Australia
CATEGORIES:Conference,Forum
ATTACH;FMTTYPE=image/png:https://www.northernminer.com/wp-content/uploads/2024/12/Screenshot-84.png
END:VEVENT
END:VCALENDAR