BEGIN:VCALENDAR
VERSION:2.0
PRODID:-//The Northern Miner - ECPv6.5.0.1//NONSGML v1.0//EN
CALSCALE:GREGORIAN
METHOD:PUBLISH
X-WR-CALNAME:The Northern Miner
X-ORIGINAL-URL:https://www.northernminer.com
X-WR-CALDESC:Events for The Northern Miner
REFRESH-INTERVAL;VALUE=DURATION:PT1H
X-Robots-Tag:noindex
X-PUBLISHED-TTL:PT1H
BEGIN:VTIMEZONE
TZID:America/Toronto
BEGIN:DAYLIGHT
TZOFFSETFROM:-0500
TZOFFSETTO:-0400
TZNAME:EDT
DTSTART:20250309T070000
END:DAYLIGHT
BEGIN:STANDARD
TZOFFSETFROM:-0400
TZOFFSETTO:-0500
TZNAME:EST
DTSTART:20251102T060000
END:STANDARD
END:VTIMEZONE
BEGIN:VEVENT
DTSTART;TZID=America/Toronto:20250408T080000
DTEND;TZID=America/Toronto:20250410T170000
DTSTAMP:20260420T034026
CREATED:20250212T212929Z
LAST-MODIFIED:20250212T212929Z
UID:1003875675-1744099200-1744304400@www.northernminer.com
SUMMARY:Discoveries 2025 Mining Conference – Mazatlan\, Mexico
DESCRIPTION:The top technical mining event in Latin America is to bring together more than 2\,000 international attendees\, 50 speakers and 85 mining companies as the conference delves into the latest in mining innovation. \n 
URL:https://www.northernminer.com/event/discoveries-2025-mining-conference-mazatlan-mexico/
LOCATION:Mazatlan International Center\, Mazatlán\, Sinaloa\, Mexico
CATEGORIES:Conference,Exhibition,Information session
ATTACH;FMTTYPE=image/png:https://www.northernminer.com/wp-content/uploads/2025/02/Screenshot-111.png
END:VEVENT
BEGIN:VEVENT
DTSTART;TZID=America/Toronto:20250411T080000
DTEND;TZID=America/Toronto:20250413T170000
DTSTAMP:20260420T034026
CREATED:20250324T202239Z
LAST-MODIFIED:20250324T202239Z
UID:1003876988-1744358400-1744563600@www.northernminer.com
SUMMARY:Scottsdale Capital Event - Scottsdale\, Ariz.
DESCRIPTION:CEM returns with the 13th annual Scottsdale Capital Event. The conference introduces growth-stage companies in the resource\,  technology and biotech sectors to active top-level capital finance individuals through a day of scheduled one-on-one meetings and networking activities. \n 
URL:https://www.northernminer.com/event/scottsdale-capital-event-scottsdale-ariz/
LOCATION:JW Marriott Phoenix Desert Ridge Resort\, Scottsdale\, AZ\, United States
CATEGORIES:Conference,Meeting,Networking event
ATTACH;FMTTYPE=image/jpeg:https://www.northernminer.com/wp-content/uploads/2025/03/Scottsdale-2024-2.jpeg
END:VEVENT
BEGIN:VEVENT
DTSTART;TZID=America/Toronto:20250424T080000
DTEND;TZID=America/Toronto:20250424T170000
DTSTAMP:20260420T034026
CREATED:20250311T165255Z
LAST-MODIFIED:20250311T165255Z
UID:1003876505-1745481600-1745514000@www.northernminer.com
SUMMARY:Inflection 2025 – Toronto
DESCRIPTION:This year’s Inflection event\, focusing on industrial technology and battery metals will host representatives from several global lithium exploration companies. The event is to include 45-minute breakout sessions with management teams in small groups. \nFor more information or to sign up\, contact a Cormark Securities salesperson or Voula Spiropoulos at vspiropoulos@cormark.com.
URL:https://www.northernminer.com/event/inflection-2025-toronto/
LOCATION:Ritz Carlton\, 181 Wellington St W\, Toronto\, Canada
CATEGORIES:Conference,Meeting
ATTACH;FMTTYPE=image/png:https://www.northernminer.com/wp-content/uploads/2025/03/images.png
END:VEVENT
END:VCALENDAR