BEGIN:VCALENDAR
VERSION:2.0
PRODID:-//The Northern Miner - ECPv6.5.0.1//NONSGML v1.0//EN
CALSCALE:GREGORIAN
METHOD:PUBLISH
X-WR-CALNAME:The Northern Miner
X-ORIGINAL-URL:https://www.northernminer.com
X-WR-CALDESC:Events for The Northern Miner
REFRESH-INTERVAL;VALUE=DURATION:PT1H
X-Robots-Tag:noindex
X-PUBLISHED-TTL:PT1H
BEGIN:VTIMEZONE
TZID:America/Toronto
BEGIN:DAYLIGHT
TZOFFSETFROM:-0500
TZOFFSETTO:-0400
TZNAME:EDT
DTSTART:20240310T070000
END:DAYLIGHT
BEGIN:STANDARD
TZOFFSETFROM:-0400
TZOFFSETTO:-0500
TZNAME:EST
DTSTART:20241103T060000
END:STANDARD
END:VTIMEZONE
BEGIN:VEVENT
DTSTART;TZID=America/Toronto:20241106T080000
DTEND;TZID=America/Toronto:20241107T170000
DTSTAMP:20260422T152030
CREATED:20240923T203056Z
LAST-MODIFIED:20240923T203056Z
UID:1003871606-1730880000-1730998800@www.northernminer.com
SUMMARY:Commodities Asia Summit - Singapore 
DESCRIPTION:The fifth edition of the FT Commodities Asia Summit will bring together more than 250 C-suite representatives from the commodities industry\, investors and policy makers. Delegates will discuss the carbon markets forum and the main conference will debate and provide insights in to the latest factors impacting the supply\, demand and pricing of oil\, gas\, metals and agricultural commodities.
URL:https://www.northernminer.com/event/commodities-asia-summit-singapore/
LOCATION:The Westin Singapore\, Singapore\, Singapore
CATEGORIES:Conference,Forum,Information session,Keynote Address
ATTACH;FMTTYPE=image/png:https://www.northernminer.com/wp-content/uploads/2024/09/Screenshot-2.png
END:VEVENT
BEGIN:VEVENT
DTSTART;TZID=America/Toronto:20241106T080000
DTEND;TZID=America/Toronto:20241107T170000
DTSTAMP:20260422T152030
CREATED:20241011T202251Z
LAST-MODIFIED:20241011T202251Z
UID:1003872243-1730880000-1730998800@www.northernminer.com
SUMMARY:Mining Investment North America - Toronto
DESCRIPTION:Mining Investment North America\, a firmly established boutique strategic mining investment and capital raising conference and exhibition returns for its sixth edition this year. \nMore than 80 investors\, 180 senior level executives and 30 mining companies ranging from explorers\, juniors to mid-tier producers and majors are expected to attend for two days of partnering\, networking and business matching.
URL:https://www.northernminer.com/event/mining-investment-north-america-toronto-2/
LOCATION:DoubleTree by Hilton Toronto Downtown\, Toronto\, Canada
CATEGORIES:Conference,Convention,Exhibition,Information session,Networking event
ATTACH;FMTTYPE=image/png:https://www.northernminer.com/wp-content/uploads/2024/10/Screenshot-14.png
END:VEVENT
BEGIN:VEVENT
DTSTART;TZID=America/Toronto:20241110T080000
DTEND;TZID=America/Toronto:20241113T170000
DTSTAMP:20260422T152030
CREATED:20241016T182325Z
LAST-MODIFIED:20241016T182325Z
UID:1003872339-1731225600-1731517200@www.northernminer.com
SUMMARY:Tailings and Mine Waste Conference 2024 – Denver\, Colo.
DESCRIPTION:After starting in 1978\, the Tailings and Mine Waste (TMW) Conference series has grown into one of the most respected and established mining conferences in the world. \nThis event is hosted through the Colorado State University in conjunction with the Norman B. Keevil Institute of Mining Engineering at the University of British Columbia and the University of Alberta on alternating years.
URL:https://www.northernminer.com/event/tailings-and-mine-waste-conference-2024-denver-colo/
LOCATION:Westin Westminster\, Denver\, United States
CATEGORIES:Conference
ATTACH;FMTTYPE=image/png:https://www.northernminer.com/wp-content/uploads/2024/10/TheTailingsNetworkLtd.png
END:VEVENT
BEGIN:VEVENT
DTSTART;TZID=America/Toronto:20241112T080000
DTEND;TZID=America/Toronto:20241113T170000
DTSTAMP:20260422T152030
CREATED:20241016T182948Z
LAST-MODIFIED:20241016T182948Z
UID:1003872344-1731398400-1731517200@www.northernminer.com
SUMMARY:The Decarbonized Mine Summit – Toronto
DESCRIPTION:The 13th edition of this year’s Energy and Mines event runs under the banner of “The Decarbonized Mine.” Bringing together more than 400 mining\, renewable energy\, storage\, fleet\, hydrogen\, energy transition\, government\, and finance experts. \nThis year’s event covers the full range of technologies and solutions being deployed and tested and addresses the fundamental questions miners are facing at this stage of the decarbonization transition.
URL:https://www.northernminer.com/event/the-decarbonized-mine-summit-toronto/
LOCATION:Marriott Downtown\, Toronto\, Canada
CATEGORIES:Conference,Information session,Networking event
ATTACH;FMTTYPE=image/png:https://www.northernminer.com/wp-content/uploads/2024/10/Mobile-Logo-2048x379-1.png
END:VEVENT
BEGIN:VEVENT
DTSTART;TZID=America/Toronto:20241114T080000
DTEND;TZID=America/Toronto:20241115T170000
DTSTAMP:20260422T152030
CREATED:20241016T184214Z
LAST-MODIFIED:20241016T184214Z
UID:1003872348-1731571200-1731690000@www.northernminer.com
SUMMARY:121 Mining Investment - London
DESCRIPTION:121 Mining Investment London returns to the U.K. capital for its autumn edition\, with two days of 1-2-1 meetings running alongside an agenda packed with the expert insight from leading institutional investors and analysts. \nThe event brings together the global junior mining ecosystem and provides unrivalled opportunity for investors and miners to connect efficiently and effectively in the heart of mining’s finance capital.
URL:https://www.northernminer.com/event/121-mining-investment-london-2/
LOCATION:Convene 133 Houndsditch\, London\, United Kingdom
CATEGORIES:Meeting,Networking event
ATTACH;FMTTYPE=image/png:https://www.northernminer.com/wp-content/uploads/2024/10/Screenshot-22.png
END:VEVENT
BEGIN:VEVENT
DTSTART;TZID=America/Toronto:20241117T000000
DTEND;TZID=America/Toronto:20241120T000000
DTSTAMP:20260422T152030
CREATED:20240705T151321Z
LAST-MODIFIED:20240705T151321Z
UID:1003869253-1731801600-1732060800@www.northernminer.com
SUMMARY:Yukon Geoscience Forum and Trade Show - Whitehorse
DESCRIPTION:The Yukon Geoscience Forum and Trade Show brings together the mining industry\, First Nations\, local communities and government representatives to advance the territory’s exploration and mineral industry. \nMore than 650 delegates are expected to attend the event that showcases the technology\, sustainable practices and policies\, and Indigenous engagement of the industry.
URL:https://www.northernminer.com/event/yukon-geoscience-forum-and-trade-show-whitehorse/
LOCATION:Kwanlin Dün Cultural Centre\, Whitehorse\, Yukon\, Canada
CATEGORIES:Conference,Convention,Forum,Keynote Address,Trade Show
ATTACH;FMTTYPE=image/png:https://www.northernminer.com/wp-content/uploads/2024/07/0rrlzog8.png
END:VEVENT
BEGIN:VEVENT
DTSTART;TZID=America/Toronto:20241120T080000
DTEND;TZID=America/Toronto:20241121T170000
DTSTAMP:20260422T152030
CREATED:20241104T213704Z
LAST-MODIFIED:20241104T213704Z
UID:1003872916-1732089600-1732208400@www.northernminer.com
SUMMARY:Swiss Mining Institute - Zurich
DESCRIPTION:One of two annual investment conferences\, the Swiss Mining Institute (SMI) provides top quality\, independent perspectives from experts within the resources sector along with presentations from more than 100 mining companies. \nOver 1\,000 asset managers\, portfolio managers\, fund managers and other professional investors are invited from all over the world to this invitation-only event.
URL:https://www.northernminer.com/event/swiss-mining-institute-zurich/
LOCATION:The Dolder Grand\, Zurich\, Switzerland
CATEGORIES:Conference,Networking event
ATTACH;FMTTYPE=image/png:https://www.northernminer.com/wp-content/uploads/2024/11/Screenshot-37.png
END:VEVENT
BEGIN:VEVENT
DTSTART;TZID=America/Toronto:20241125T080000
DTEND;TZID=America/Toronto:20241126T170000
DTSTAMP:20260422T152030
CREATED:20241011T210121Z
LAST-MODIFIED:20241011T210121Z
UID:1003872246-1732521600-1732640400@www.northernminer.com
SUMMARY:Asia Gold Conference - Singapore
DESCRIPTION:The Asia Gold Conference is the only international conference in Singapore and in the Asia Pacific region exclusively focusing on gold\, silver and other precious metals. \nThe two-day conference will focus on critical industry issues\, developments and key trends shaping the precious metals industry’s future.\nA range of metals explorers\, developers and producers will speak at the conference on various investment opportunities.
URL:https://www.northernminer.com/event/asia-gold-conference-singapore/
LOCATION:Marriott Tang Plaza Hotel\, Singapore\, Singapore
CATEGORIES:Conference,Information session,Meeting,Networking event
ATTACH;FMTTYPE=image/png:https://www.northernminer.com/wp-content/uploads/2024/10/Screenshot-19.png
END:VEVENT
BEGIN:VEVENT
DTSTART;TZID=America/Toronto:20241125T080000
DTEND;TZID=America/Toronto:20241126T170000
DTSTAMP:20260422T152030
CREATED:20241016T191229Z
LAST-MODIFIED:20241016T191229Z
UID:1003872356-1732521600-1732640400@www.northernminer.com
SUMMARY:Peru Rocks\, the Awakening of a Giant – Lima\, Peru
DESCRIPTION:The Peru Rocks exploration conference will systematically examine current activity in all recognized mineralized belts in Peru. Attendees and presenters will also investigate improvements to the permitting system and analyze current community issues to lead to sustained investment in the sector.\n\nThe congress will have simultaneous translation between Spanish and English.
URL:https://www.northernminer.com/event/peru-rocks-the-awakening-of-a-giant-lima-peru/
LOCATION:Country Club Lima Hotel\, Lima\, Peru
CATEGORIES:Conference,Forum,Information session,Meeting
ATTACH;FMTTYPE=image/png:https://www.northernminer.com/wp-content/uploads/2024/10/Screenshot-23.png
END:VEVENT
BEGIN:VEVENT
DTSTART;TZID=America/Toronto:20241126T080000
DTEND;TZID=America/Toronto:20241128T170000
DTSTAMP:20260422T152030
CREATED:20240927T213506Z
LAST-MODIFIED:20240927T213506Z
UID:1003871791-1732608000-1732813200@www.northernminer.com
SUMMARY:Yellowknife Geoscience Forum – Yellowknife\, NWT
DESCRIPTION:The annual Yellowknife Geoscience Forum\, the largest mining and petroleum conference in the Northwest Territories returns in November. This event\, a joint initiative of the NWT & Nunavut Chamber of Mines and the Government of the NWT’s Department of Industry\, Tourism\, and Investment attracts hundreds of delegates and exhibitors eager to share their knowledge\, learn from others\, and promote their services and products.
URL:https://www.northernminer.com/event/yellowknife-geoscience-forum-yellowknife-nwt/
LOCATION:Chateau Nova Conference Centre\, Yellowknife\, Canada
CATEGORIES:Conference,Forum,Information session,Keynote Address,Networking event,Presentation
ATTACH;FMTTYPE=image/png:https://www.northernminer.com/wp-content/uploads/2024/09/Yellowknife-Geoscience-Forum.png
END:VEVENT
END:VCALENDAR