BEGIN:VCALENDAR
VERSION:2.0
PRODID:-//The Northern Miner - ECPv6.5.0.1//NONSGML v1.0//EN
CALSCALE:GREGORIAN
METHOD:PUBLISH
X-WR-CALNAME:The Northern Miner
X-ORIGINAL-URL:https://www.northernminer.com
X-WR-CALDESC:Events for The Northern Miner
REFRESH-INTERVAL;VALUE=DURATION:PT1H
X-Robots-Tag:noindex
X-PUBLISHED-TTL:PT1H
BEGIN:VTIMEZONE
TZID:America/Toronto
BEGIN:DAYLIGHT
TZOFFSETFROM:-0500
TZOFFSETTO:-0400
TZNAME:EDT
DTSTART:20240310T070000
END:DAYLIGHT
BEGIN:STANDARD
TZOFFSETFROM:-0400
TZOFFSETTO:-0500
TZNAME:EST
DTSTART:20241103T060000
END:STANDARD
END:VTIMEZONE
BEGIN:VEVENT
DTSTART;TZID=America/Toronto:20240205T080000
DTEND;TZID=America/Toronto:20240206T170000
DTSTAMP:20260423T185225
CREATED:20231208T222205Z
LAST-MODIFIED:20231208T222219Z
UID:1003861816-1707120000-1707238800@www.northernminer.com
SUMMARY:Mining 121 – Cape Town
DESCRIPTION:121 Mining Investment Cape Town returns in February for two days of meetings between representatives of 125 mining companies and more than 550 investors.
URL:https://www.northernminer.com/event/mining-121-cape-town/
LOCATION:The Welgemeend\, Cape Town\, South Africa
CATEGORIES:Meeting,Networking event
ATTACH;FMTTYPE=image/png:https://www.northernminer.com/wp-content/uploads/2023/12/Screenshot-1390.png
END:VEVENT
BEGIN:VEVENT
DTSTART;TZID=America/Toronto:20240205T080000
DTEND;TZID=America/Toronto:20240208T170000
DTSTAMP:20260423T185225
CREATED:20231102T184402Z
LAST-MODIFIED:20231102T184402Z
UID:1003860339-1707120000-1707411600@www.northernminer.com
SUMMARY:Mining Indaba 2024 - Cape Town
DESCRIPTION:Mining Indaba returns in February for its 30th anniversary! \nThe four-day event will focus on the theme ‘Embracing the power of positive disruption: A bold new future for African mining’ and will support the change the African mining industry needs to advance. \nThe event is expected to draw more than 8\,000 attendees\, 900 investors\, 700 mining executives and 470 junior mining executives.
URL:https://www.northernminer.com/event/mining-indaba-2024-cape-town/
LOCATION:: Cape Town International Convention  Centre\, Cape Town\, South Africa
CATEGORIES:Conference,Convention,Exhibition,Forum,Information session,Keynote Address
ATTACH;FMTTYPE=image/jpeg:https://www.northernminer.com/wp-content/uploads/2023/11/OIP-2.jpg
END:VEVENT
BEGIN:VEVENT
DTSTART;TZID=America/Toronto:20240222T080000
DTEND;TZID=America/Toronto:20240223T170000
DTSTAMP:20260423T185225
CREATED:20231107T190946Z
LAST-MODIFIED:20231107T190946Z
UID:1003860558-1708588800-1708707600@www.northernminer.com
SUMMARY:Mines and Money - Miami
DESCRIPTION:Mines and Money comes to Miami in February\, an event that will host more than 900 people including representatives from over 125 mining companies\, hundreds of investors\, banks\, brokers\, technology companies and consultants.
URL:https://www.northernminer.com/event/mines-and-money-miami/
LOCATION:James L. Knight Centre\, Miami\, FL\, United States
CATEGORIES:Conference,Convention,Forum,Information session,Networking event
ATTACH;FMTTYPE=image/png:https://www.northernminer.com/wp-content/uploads/2023/11/Screenshot-1327.png
END:VEVENT
BEGIN:VEVENT
DTSTART;TZID=America/Toronto:20240222T113000
DTEND;TZID=America/Toronto:20240222T130000
DTSTAMP:20260423T185225
CREATED:20240201T172001Z
LAST-MODIFIED:20240201T172001Z
UID:1003863454-1708601400-1708606800@www.northernminer.com
SUMMARY:Next Generation of Investors in Mining - Toronto
DESCRIPTION:The Canadian Institute of Mining\, Metallurgy and Petroleum (CIM) will host the Next Generation of Investors in Mining luncheon in Toronto\, featuring a panel discussion on engaging the next generation of investors. The talk will explore effective platforms for outreach\, identify messages that resonate with this audience\, delve into the sectors that currently appeal to them and try to understand why. Speakers include The Northern Miner Group President Anthony Vaccaro; Grizzle President Thomas George; and American Eagle Gold CEO Anthony Moreau.
URL:https://www.northernminer.com/event/next-generation-of-investors-in-mining-toronto/
LOCATION:The National Club\, 303 Bay Street\, Toronto\, Ontario\, Canada
CATEGORIES:Panel Discussion
ATTACH;FMTTYPE=image/png:https://www.northernminer.com/wp-content/uploads/2024/02/Screenshot-1412.png
END:VEVENT
BEGIN:VEVENT
DTSTART;TZID=America/Toronto:20240225T080000
DTEND;TZID=America/Toronto:20240228T170000
DTSTAMP:20260423T185225
CREATED:20231102T185837Z
LAST-MODIFIED:20231102T185837Z
UID:1003860348-1708848000-1709139600@www.northernminer.com
SUMMARY:Mine Exchange – Phoenix
DESCRIPTION:The Society for Mining\, Metallurgy & Exploration (SME) is organizing the MineExchange 2024 Annual Conference and Expo\, which features leaders from the industry speaking on the most relevant topics facing mining today. The expo will showcase the latest products\, services and solutions for all those who make mining a career.
URL:https://www.northernminer.com/event/mine-exchange-phoenix/
LOCATION:Phoenix Convention Center\, Phoenix\, AZ\, United States
CATEGORIES:Conference,Convention,Exhibition,Keynote Address
ATTACH;FMTTYPE=image/png:https://www.northernminer.com/wp-content/uploads/2023/11/Screenshot-1271.png
END:VEVENT
BEGIN:VEVENT
DTSTART;TZID=America/Toronto:20240226T080000
DTEND;TZID=America/Toronto:20240227T170000
DTSTAMP:20260423T185225
CREATED:20231208T223258Z
LAST-MODIFIED:20231208T223258Z
UID:1003861821-1708934400-1709053200@www.northernminer.com
SUMMARY:Critical Minerals and Energy Investment – Brisbane
DESCRIPTION:The Critical Minerals & Energy Investment Conference and Exhibition is the only event in the country dedicated specifically to critical minerals development and focuses on all aspects of the sector\, from exploration to investment to downstream processing. Organizers expect 250 senior executives and representatives from more than 25 mining companies to attend.
URL:https://www.northernminer.com/event/critical-minerals-and-energy-investment-brisbane/
LOCATION:TBA\, Kolwezi\, Congo\, Democratic Republic of the
CATEGORIES:Conference,Forum,Information session,Keynote Address,Meeting,Networking event
ATTACH;FMTTYPE=image/png:https://www.northernminer.com/wp-content/uploads/2023/12/Screenshot-1391.png
END:VEVENT
BEGIN:VEVENT
DTSTART;TZID=America/Toronto:20240229T103000
DTEND;TZID=America/Toronto:20240229T140000
DTSTAMP:20260423T185225
CREATED:20240201T173401Z
LAST-MODIFIED:20240201T173401Z
UID:1003863458-1709202600-1709215200@www.northernminer.com
SUMMARY:TSX Lithium Investor Day - Toronto
DESCRIPTION:The TMX Centre in downtown Toronto will host the TSX Lithium Investor Day\, bringing together key figures and investors in the lithium space.
URL:https://www.northernminer.com/event/tsx-lithium-investor-day-toronto/
LOCATION:TMX Market Centre\, 120 Adelaide St. West\, Toronto\, Canada
CATEGORIES:Conference,Panel Discussion
ATTACH;FMTTYPE=image/png:https://www.northernminer.com/wp-content/uploads/2024/02/Screenshot-1413.png
END:VEVENT
END:VCALENDAR