BEGIN:VCALENDAR
VERSION:2.0
PRODID:-//The Northern Miner - ECPv6.5.0.1//NONSGML v1.0//EN
CALSCALE:GREGORIAN
METHOD:PUBLISH
X-ORIGINAL-URL:https://www.northernminer.com
X-WR-CALDESC:Events for The Northern Miner
REFRESH-INTERVAL;VALUE=DURATION:PT1H
X-Robots-Tag:noindex
X-PUBLISHED-TTL:PT1H
BEGIN:VTIMEZONE
TZID:America/Toronto
BEGIN:DAYLIGHT
TZOFFSETFROM:-0500
TZOFFSETTO:-0400
TZNAME:EDT
DTSTART:20230312T070000
END:DAYLIGHT
BEGIN:STANDARD
TZOFFSETFROM:-0400
TZOFFSETTO:-0500
TZNAME:EST
DTSTART:20231105T060000
END:STANDARD
END:VTIMEZONE
BEGIN:VEVENT
DTSTART;VALUE=DATE:20230604
DTEND;VALUE=DATE:20230608
DTSTAMP:20260425T113357
CREATED:20230516T191356Z
LAST-MODIFIED:20230516T191356Z
UID:1003855132-1685836800-1686182399@www.northernminer.com
SUMMARY:American Society of Reclamation Sciences
DESCRIPTION:The 40th Annual Meeting of the American Society of Reclamation Sciences (formerly the American Society of Mining & Reclamation) will offer opportunities for companies and organizations to interact with reclamation professionals. \nThe conference will be held at the Boise Centre in downtown Boise\, Idaho.
URL:https://www.northernminer.com/event/american-society-of-reclamation-sciences/
LOCATION:Boise Center\, Boise\, ID\, United States
CATEGORIES:Conference,Forum,Information session
END:VEVENT
BEGIN:VEVENT
DTSTART;VALUE=DATE:20230605
DTEND;VALUE=DATE:20230607
DTSTAMP:20260425T113357
CREATED:20230516T192356Z
LAST-MODIFIED:20230516T192356Z
UID:1003855136-1685923200-1686095999@www.northernminer.com
SUMMARY:121 Mining Investment - New York
DESCRIPTION:Mining companies and investors will meet in New York again in 2023 for two-days of 1-on-1 meetings matching projects to investment capital\, a conference programme full of market intelligence and investment ideas. The event will bring together CEOs from 60 mining companies and 300 investors from across the Americas and Europe.
URL:https://www.northernminer.com/event/121-mining-investment-new-york/
LOCATION:etc venues\, London\, United Kingdom
CATEGORIES:Conference,Forum
END:VEVENT
BEGIN:VEVENT
DTSTART;VALUE=DATE:20230607
DTEND;VALUE=DATE:20230609
DTSTAMP:20260425T113357
CREATED:20230516T192906Z
LAST-MODIFIED:20230516T192906Z
UID:1003855139-1686096000-1686268799@www.northernminer.com
SUMMARY:Canadian Mining Expo - Timmins
DESCRIPTION:More than 400 exhibitors will gather at the McIntyre Arena in Timmins\, Ont. for the Jun. 7-8 event. Exhibitors will be showcasing the latest in innovation and technology for the mining industry.
URL:https://www.northernminer.com/event/canadian-mining-expo-timmins/
LOCATION:McIntyre Arena\, Timmins\, Ontario\, Canada
CATEGORIES:Exhibition,Exposition,Networking event
END:VEVENT
BEGIN:VEVENT
DTSTART;TZID=America/Toronto:20230614T080000
DTEND;TZID=America/Toronto:20230615T170000
DTSTAMP:20260425T113357
CREATED:20230613T204143Z
LAST-MODIFIED:20230613T204143Z
UID:1003855938-1686729600-1686848400@www.northernminer.com
SUMMARY:Mines and Money - Connect Melbourne
DESCRIPTION:Mines and Money will convene at Connect Melbourne 2023\, showcasing more than 40 mining companies\, industry service providers and playing host to over 160 investors. \nThe two-day event offers networking\, cutting-edge market analysis\, comparison of investment opportunities\, knowledge sharing\, and the chance to forge invaluable long-term business relationships. \nThe event’s AI-powered meeting planner Mines and Money Connect allows attendees to pre-schedule all meetings before arriving\, ensuring time is optimized to the fullest.
URL:https://www.northernminer.com/event/mines-and-money-connect-melbourne/
LOCATION:Ritz-Carlton Melbourne\, Melbourne\, Victoria\, Australia
CATEGORIES:Conference,Information session,Meeting,Networking event
ATTACH;FMTTYPE=image/jpeg:https://www.northernminer.com/wp-content/uploads/2023/06/68xkiYZ4_400x400.jpeg
END:VEVENT
BEGIN:VEVENT
DTSTART;VALUE=DATE:20230619
DTEND;VALUE=DATE:20230622
DTSTAMP:20260425T113357
CREATED:20230516T193725Z
LAST-MODIFIED:20230516T193725Z
UID:1003855143-1687132800-1687391999@www.northernminer.com
SUMMARY:VID Mining Conference - Quebec City
DESCRIPTION:This invitation-only Tier I conference brings together mining companies\, accredited investors and institutional representatives to showcase the best of Canadian mining for a global audience. Featuring a mix of exploration\, development\, royalty companies and producers representing all commodities.
URL:https://www.northernminer.com/event/vid-mining-conference-quebec-city/
LOCATION:Fairmont Le Chateau Frontenac and Voltigeurs de Québec Armoury\, Quebec City\, Quebec\, Canada
CATEGORIES:Conference,Convention,Keynote Address,Panel Discussion,Symposium
END:VEVENT
BEGIN:VEVENT
DTSTART;VALUE=DATE:20230626
DTEND;VALUE=DATE:20230630
DTSTAMP:20260425T113357
CREATED:20230517T132507Z
LAST-MODIFIED:20230517T132507Z
UID:1003855179-1687737600-1688083199@www.northernminer.com
SUMMARY:26th World Mining Congress
DESCRIPTION:The World Mining Congress 2023 (WMC) will bring together international representatives of leading resource economies to find new partners\, discuss current challenges\, and share the latest research\, technology and best practice. \nThe WMC expects at least 2\,000 participants from more than 58 countries will attend\, with over 100 exhibitors showcasing the latest technologies for faster\, cleaner and more efficient mining.
URL:https://www.northernminer.com/event/26th-world-mining-congress/
LOCATION:Brisbane Convention Centre\, Brisbane\, Queensland\, Australia
CATEGORIES:Conference,Congress,Information session,Meeting,Networking event,Seminar,Trade Show
ATTACH;FMTTYPE=image/png:https://www.northernminer.com/wp-content/uploads/2023/05/image001.png
END:VEVENT
END:VCALENDAR