BEGIN:VCALENDAR
VERSION:2.0
PRODID:-//The Northern Miner - ECPv6.5.0.1//NONSGML v1.0//EN
CALSCALE:GREGORIAN
METHOD:PUBLISH
X-WR-CALNAME:The Northern Miner
X-ORIGINAL-URL:https://www.northernminer.com
X-WR-CALDESC:Events for The Northern Miner
REFRESH-INTERVAL;VALUE=DURATION:PT1H
X-Robots-Tag:noindex
X-PUBLISHED-TTL:PT1H
BEGIN:VTIMEZONE
TZID:America/Toronto
BEGIN:DAYLIGHT
TZOFFSETFROM:-0500
TZOFFSETTO:-0400
TZNAME:EDT
DTSTART:20230312T070000
END:DAYLIGHT
BEGIN:STANDARD
TZOFFSETFROM:-0400
TZOFFSETTO:-0500
TZNAME:EST
DTSTART:20231105T060000
END:STANDARD
END:VTIMEZONE
BEGIN:VEVENT
DTSTART;TZID=America/Toronto:20230418T080000
DTEND;TZID=America/Toronto:20230420T170000
DTSTAMP:20260425T164751
CREATED:20230308T221757Z
LAST-MODIFIED:20230308T221810Z
UID:1003852872-1681804800-1682010000@www.northernminer.com
SUMMARY:2023 MINING HEALTH AND SAFETY CONFERENCE
DESCRIPTION:You are invited to attend the annual Mining Health and Safety Conference hosted by Workplace Safety North from April 18 to 20\, 2023\, at the Holiday Inn in Sudbury\, Ontario. \nThemed ‘Evolution of mining safety: Past reflections and future innovations\,’ this year’s conference celebrates 25 years of helping make Ontario mining operations safer. \nEach year\, about 300 attendees gather to learn and share their knowledge about mining health and safety\, and network with industry professionals. As the premiere mining health and safety event in Canada\, the conference will be livestreamed\, and made available for viewing around the globe. \nKey presentation topics\nHigh-risk hazards specific to underground work\nWorkplace well-being and mental health\nSafety culture and management systems\nResearch and innovation\nEmergency preparedness and mine rescue
URL:https://www.northernminer.com/event/2023-mining-health-and-safety-conference/
LOCATION:Holiday Inn\, Sudbury\, Sudbury\, Ontario\, Canada
ORGANIZER;CN="Workplace Safety North":MAILTO:info@workplacesafetynorth.ca
END:VEVENT
BEGIN:VEVENT
DTSTART;TZID=America/Toronto:20230430T080000
DTEND;TZID=America/Toronto:20230503T170000
DTSTAMP:20260425T164751
CREATED:20230302T233429Z
LAST-MODIFIED:20230302T233429Z
UID:1003852614-1682841600-1683133200@www.northernminer.com
SUMMARY:CIM Convention and Expo 2023
DESCRIPTION:
URL:https://www.northernminer.com/event/cim-convention-and-expo-2023/
LOCATION:Palais des Congres de Montreal\, Montreal\, Quebec\, Canada
CATEGORIES:Conference
END:VEVENT
END:VCALENDAR