BEGIN:VCALENDAR
VERSION:2.0
PRODID:-//The Northern Miner - ECPv6.5.0.1//NONSGML v1.0//EN
CALSCALE:GREGORIAN
METHOD:PUBLISH
X-ORIGINAL-URL:https://www.northernminer.com
X-WR-CALDESC:Events for The Northern Miner
REFRESH-INTERVAL;VALUE=DURATION:PT1H
X-Robots-Tag:noindex
X-PUBLISHED-TTL:PT1H
BEGIN:VTIMEZONE
TZID:America/Toronto
BEGIN:DAYLIGHT
TZOFFSETFROM:-0500
TZOFFSETTO:-0400
TZNAME:EDT
DTSTART:20240310T070000
END:DAYLIGHT
BEGIN:STANDARD
TZOFFSETFROM:-0400
TZOFFSETTO:-0500
TZNAME:EST
DTSTART:20241103T060000
END:STANDARD
END:VTIMEZONE
BEGIN:VEVENT
DTSTART;TZID=America/Toronto:20240926T080000
DTEND;TZID=America/Toronto:20240926T170000
DTSTAMP:20260424T144847
CREATED:20240826T185350Z
LAST-MODIFIED:20240826T185350Z
UID:1003870833-1727337600-1727370000@www.northernminer.com
SUMMARY:Navigating Shutdowns\, Turnarounds and Outages (STOs) – webinar
DESCRIPTION:Juan Lopez of the Prometheus Group presents a webinar on Shutdowns\, turnarounds\, and outages (STOs) and how companies can smoothly navigate the complexities of these events to discover opportunities for better competitiveness and financial performance.
URL:https://www.northernminer.com/event/navigating-shutdowns-turnarounds-and-outages-stos-webinar/
CATEGORIES:Information session,Seminar
ATTACH;FMTTYPE=image/png:https://www.northernminer.com/wp-content/uploads/2024/08/Screenshot-1572.png
END:VEVENT
END:VCALENDAR