BEGIN:VCALENDAR
VERSION:2.0
PRODID:-//The Northern Miner - ECPv6.5.0.1//NONSGML v1.0//EN
CALSCALE:GREGORIAN
METHOD:PUBLISH
X-WR-CALNAME:The Northern Miner
X-ORIGINAL-URL:https://www.northernminer.com
X-WR-CALDESC:Events for The Northern Miner
REFRESH-INTERVAL;VALUE=DURATION:PT1H
X-Robots-Tag:noindex
X-PUBLISHED-TTL:PT1H
BEGIN:VTIMEZONE
TZID:America/Toronto
BEGIN:DAYLIGHT
TZOFFSETFROM:-0500
TZOFFSETTO:-0400
TZNAME:EDT
DTSTART:20170312T070000
END:DAYLIGHT
BEGIN:STANDARD
TZOFFSETFROM:-0400
TZOFFSETTO:-0500
TZNAME:EST
DTSTART:20171105T060000
END:STANDARD
BEGIN:DAYLIGHT
TZOFFSETFROM:-0500
TZOFFSETTO:-0400
TZNAME:EDT
DTSTART:20180311T070000
END:DAYLIGHT
BEGIN:STANDARD
TZOFFSETFROM:-0400
TZOFFSETTO:-0500
TZNAME:EST
DTSTART:20181104T060000
END:STANDARD
END:VTIMEZONE
BEGIN:VEVENT
DTSTART;TZID=America/Toronto:20180113T080000
DTEND;TZID=America/Toronto:20180113T170000
DTSTAMP:20260424T194656
CREATED:20180131T191202Z
LAST-MODIFIED:20180131T191202Z
UID:1003793046-1515830400-1515862800@www.northernminer.com
SUMMARY:3rd Mines & Mining Industries Summit 2018
DESCRIPTION:We are pleased to inform you the 3rd Iran Mines & Mining Industries Summit” Development & Investment” (IMIS 2018) would take place by Independent Inc. for Contemporary International Conferences & Fairs (IICIC) & under the patronage of Iranian Mines & Mining Industries Development & Renovation Organization(IMIDRO) on 19-20 June\, 2018 at IRIB International Conference Center in Tehran-Iran. \nIMIS2018 Topics: \n1- Exploration:\n• Investment in green & brown fields\, rules & regulations\, models of cooperation\, JV\, FDI\n• New technologies & approaches in exploration\n• IMIDRO exploration business model for interested companies\n2- Empowerment & Development:\n• Digitalization & applying new technologies in mines & mining industries\n• Importance of continuous training in mines & mining industries\n• R &D\n3- Investment:\n• IMIDRO Projects for investment & investment models of IMIDRO\n• Rules & regulations compatibility & appliance\n• Iran’s mining investment risks \, advantages & solutions\n• New investment approaches in mines & mining projects\n4- Infrastructure & HSE:\n• Risk reduction & safety in mines\n• Importance of training & education in HSE\n• Applying new technologies\, approaches & machines in HSE\n• New coming energy zones & infrastructure development\n• Infrastructures comprehensive development such as ports\, railroads\, supply of water\, power & gas
URL:https://www.northernminer.com/event/3rd-mines-mining-industries-summit-2018/
CATEGORIES:Conference,Exhibition,Keynote Address,Panel Discussion,Presentation
END:VEVENT
BEGIN:VEVENT
DTSTART;TZID=America/Toronto:20170425T130000
DTEND;TZID=America/Toronto:20170425T170000
DTSTAMP:20260424T194656
CREATED:20170420T210112Z
LAST-MODIFIED:20170420T210112Z
UID:1003785332-1493125200-1493139600@www.northernminer.com
SUMMARY:TGDG Symposium: The Geology of Li-Ion Battery Materials and Evaluating Risk in Today's Markets
DESCRIPTION:Based on member feedback and the popularity and projected demand for Li-ion batteries\, we are hosting an afternoon that will focus on the three main mineral components of some Li-ion batteries – Lithium\, Cobalt and Carbon. Presentations will provide an overview of the Li-battery market\, three specific deposits\, and the downstream mineral processing. These ideas will be brought together in a panel discussion at the end of the afternoon.
URL:https://www.northernminer.com/event/tgdg-symposium-geology-li-ion-battery-materials-evaluating-risk-todays-markets/
LOCATION:Ontario Bar Association\, 20 Toronto St.\, Toronto\, Ontario\, M5C 2B8\, Canada
CATEGORIES:Live Webcast,Panel Discussion,Presentation
ORGANIZER;CN="Toronto Geological Discussion Group":MAILTO:contact@tgdg.net
END:VEVENT
BEGIN:VEVENT
DTSTART;TZID=America/Toronto:20170413T180000
DTEND;TZID=America/Toronto:20170413T203000
DTSTAMP:20260424T194656
CREATED:20170315T191505Z
LAST-MODIFIED:20170315T191505Z
UID:1003784407-1492106400-1492115400@www.northernminer.com
SUMMARY:Exhibit Lecture by Mindy S. Vogel
DESCRIPTION:On April 13\, Mindy S. Vogel\, a Forest Service geologist\, will present a lecture entitled “Rock\, Paper\, Forest Service: A Summary of Mining and Permitting on Forest Service Lands.” This lecture is in pairing with the Western Museum of Mining & Industry’s new exhibit\, “Minerals You Use Every Day from the National Forests.” Light refreshments will be offered. The museum requests that those interested in attending please contact the museum to reserve a spot. Please call 719-488-0880 or respond by e-mail at rsvp@wmmi.org. \nThis exhibit consists of an interactive component from the National Museum of Forest Service History and a selection of minerals from WMMI’s collection. Whether we realize it or not\, modern civilization is heavily dependent on minerals for everything from computers and electricity to toothpaste and makeup. This exhibit highlights this importance and demonstrates how America’s national forests help supply the country’s mineral needs. This exhibit will be open through June 3.
URL:https://www.northernminer.com/event/exhibit-lecture-mindy-s-vogel/
LOCATION:Western Museum of Mining & Industry\, Colorado Springs\, CO\, 80921\, United States
CATEGORIES:Exhibition,Information session,Keynote Address,Networking event,Presentation
END:VEVENT
BEGIN:VEVENT
DTSTART;TZID=America/Toronto:20170410T180000
DTEND;TZID=America/Toronto:20170410T203000
DTSTAMP:20260424T194656
CREATED:20170315T191007Z
LAST-MODIFIED:20170315T191007Z
UID:1003784406-1491847200-1491856200@www.northernminer.com
SUMMARY:“A Tale of Two Husteds” lecture by Jack Anthony
DESCRIPTION:The Palmer Lake Historical Society and the Western Museum of Mining & Industry are pleased to announce the second presentation of “A Tale of Two Husteds” by Jack Anthony!\nAbout six miles south of Palmer Lake\, East Husted and West Husted sprang up as railroad “tank towns” for the Denver & Rio Grande and the Atchison Topeka & Santa Fe railroads. The two Husted depots midway between Colorado Springs and Palmer Lake became a place to pick up passengers and shipments of agricultural products. Both were thriving communities until the early 1920s. Then\, development of the United States Air Force Academy in the mid-1950s caused the remaining buildings to be either moved or demolished. Only the Reynolds Ranch House remains\, still in its original location east of Interstate 25 on the property of the Western Museum of Mining & Industry on Colorado Springs’ north side.\nJack Anthony is a graduate of the Air Force Academy. For almost 40 years\, he has served in various military\, intelligence\, and NASA roles as an engineer\, educator\, leader\, and operator. Jack successfully spear-headed the effort to have the Palmer Lake Star included on the State Register of Historic Properties. His presentation includes both sides and a short video.
URL:https://www.northernminer.com/event/tale-two-husteds-lecture-jack-anthony/
LOCATION:Western Museum of Mining & Industry\, Colorado Springs\, CO\, 80921\, United States
CATEGORIES:Exhibition,Information session,Keynote Address,Networking event,Presentation
END:VEVENT
BEGIN:VEVENT
DTSTART;TZID=America/Toronto:20170314T080000
DTEND;TZID=America/Toronto:20170314T170000
DTSTAMP:20260424T194656
CREATED:20170314T194722Z
LAST-MODIFIED:20170314T194722Z
UID:1003784405-1489478400-1489510800@www.northernminer.com
SUMMARY:Family Exploration Day: Science
DESCRIPTION:Join WMMI as we spend the day exploring the world of science\, with experiments and more that strengthen and support the key educational areas of Science\, Technology\, Engineering and Math! Come see Pikes Peak Soaring Club\, Colorado Springs Utilities Electricity Demonstrations\, Palmer Ridge Robotics Club\, Science Matters\, The Space Foundation Discovery Center\, and more! \nAll activities included with standard museum admission rates!
URL:https://www.northernminer.com/event/family-exploration-day-science/
LOCATION:Western Museum of Mining & Industry\, Colorado Springs\, CO\, 80921\, United States
CATEGORIES:Presentation
END:VEVENT
END:VCALENDAR