BEGIN:VCALENDAR
VERSION:2.0
PRODID:-//The Northern Miner - ECPv6.5.0.1//NONSGML v1.0//EN
CALSCALE:GREGORIAN
METHOD:PUBLISH
X-ORIGINAL-URL:https://www.northernminer.com
X-WR-CALDESC:Events for The Northern Miner
REFRESH-INTERVAL;VALUE=DURATION:PT1H
X-Robots-Tag:noindex
X-PUBLISHED-TTL:PT1H
BEGIN:VTIMEZONE
TZID:America/Toronto
BEGIN:DAYLIGHT
TZOFFSETFROM:-0500
TZOFFSETTO:-0400
TZNAME:EDT
DTSTART:20260308T070000
END:DAYLIGHT
BEGIN:STANDARD
TZOFFSETFROM:-0400
TZOFFSETTO:-0500
TZNAME:EST
DTSTART:20261101T060000
END:STANDARD
END:VTIMEZONE
BEGIN:VEVENT
DTSTART;TZID=America/Toronto:20260423T080000
DTEND;TZID=America/Toronto:20260424T170000
DTSTAMP:20260424T050556
CREATED:20260202T190526Z
LAST-MODIFIED:20260202T190526Z
UID:1003887201-1776931200-1777050000@www.northernminer.com
SUMMARY:Critical Minerals North America Conference & Exhibition - New York City
DESCRIPTION:​The Critical Minerals North America Conference & Exhibition will examine all facets of the mining and exploration ecosystem\, as well as investment strategies\, new technologies\, First Nations and community engagement and ESG. \n​​​More than 300 senior level executives from international organizations\, governments and stakeholders from more than 20 countries are expected to attend for two days of partnering\, networking and business matching.
URL:https://www.northernminer.com/event/critical-minerals-north-america-conference-exhibition-new-york-city/
LOCATION:TBA\, Kolwezi\, Congo\, Democratic Republic of the
CATEGORIES:Conference,Exhibition,Meeting,Networking event
ATTACH;FMTTYPE=image/png:https://www.northernminer.com/wp-content/uploads/2026/02/Screenshot-142.png
END:VEVENT
BEGIN:VEVENT
DTSTART;TZID=America/Toronto:20260427T080000
DTEND;TZID=America/Toronto:20260429T170000
DTSTAMP:20260424T050556
CREATED:20260301T145852Z
LAST-MODIFIED:20260301T145852Z
UID:1003888301-1777276800-1777482000@www.northernminer.com
SUMMARY:Expo Cobre 2026 - Lima\, Peru
DESCRIPTION:The Expo Cobre conference returns this year with more than 200 exhibiting companies\, international leaders\, and 10\,000 sq. metres of exhibition space setting the course for the future of copper worldwide. \nThe event has quickly become the must-attend international exhibition showcasing machinery\, equipment\, products\, services and supplies for the copper mining industry.
URL:https://www.northernminer.com/event/expo-cobre-2026-lima-peru/
LOCATION:Jockey Exhibition Center\, Lima\, Peru
CATEGORIES:Conference,Convention,Exhibition,Keynote Address,Meeting,Panel Discussion,Trade Show
ATTACH;FMTTYPE=image/png:https://www.northernminer.com/wp-content/uploads/2026/03/Screenshot-181.png
END:VEVENT
END:VCALENDAR