BEGIN:VCALENDAR
VERSION:2.0
PRODID:-//The Northern Miner - ECPv6.5.0.1//NONSGML v1.0//EN
CALSCALE:GREGORIAN
METHOD:PUBLISH
X-ORIGINAL-URL:https://www.northernminer.com
X-WR-CALDESC:Events for The Northern Miner
REFRESH-INTERVAL;VALUE=DURATION:PT1H
X-Robots-Tag:noindex
X-PUBLISHED-TTL:PT1H
BEGIN:VTIMEZONE
TZID:America/Toronto
BEGIN:DAYLIGHT
TZOFFSETFROM:-0500
TZOFFSETTO:-0400
TZNAME:EDT
DTSTART:20250309T070000
END:DAYLIGHT
BEGIN:STANDARD
TZOFFSETFROM:-0400
TZOFFSETTO:-0500
TZNAME:EST
DTSTART:20251102T060000
END:STANDARD
END:VTIMEZONE
BEGIN:VEVENT
DTSTART;TZID=America/Toronto:20251001T080000
DTEND;TZID=America/Toronto:20251003T170000
DTSTAMP:20260425T134952
CREATED:20250916T150849Z
LAST-MODIFIED:20250916T150849Z
UID:1003882613-1759305600-1759510800@www.northernminer.com
SUMMARY:Mining and Energy Expo - Minneapolis\, Minn.
DESCRIPTION:The Mining and Energy Expo will showcase what companies operating in these industries need to consider in today’s evolving landscape from the demand and supply side. Expo participants will include mining and energy industry executives\, landowners\, institutional investors\, manufacturers\, tribal advisers\, technology companies and others interested in moving projects forward.
URL:https://www.northernminer.com/event/mining-and-energy-expo-minneapolis-minn/
LOCATION:Radisson Blu Mall of America\, Minneapolis\, MN\, United States
CATEGORIES:Conference,Exposition,Forum,Information session,Keynote Address,Networking event
ATTACH;FMTTYPE=image/png:https://www.northernminer.com/wp-content/uploads/2025/09/Screenshot-3.png
END:VEVENT
END:VCALENDAR