BEGIN:VCALENDAR
VERSION:2.0
PRODID:-//The Northern Miner - ECPv6.5.0.1//NONSGML v1.0//EN
CALSCALE:GREGORIAN
METHOD:PUBLISH
X-WR-CALNAME:The Northern Miner
X-ORIGINAL-URL:https://www.northernminer.com
X-WR-CALDESC:Events for The Northern Miner
REFRESH-INTERVAL;VALUE=DURATION:PT1H
X-Robots-Tag:noindex
X-PUBLISHED-TTL:PT1H
BEGIN:VTIMEZONE
TZID:America/Toronto
BEGIN:DAYLIGHT
TZOFFSETFROM:-0500
TZOFFSETTO:-0400
TZNAME:EDT
DTSTART:20260308T070000
END:DAYLIGHT
BEGIN:STANDARD
TZOFFSETFROM:-0400
TZOFFSETTO:-0500
TZNAME:EST
DTSTART:20261101T060000
END:STANDARD
END:VTIMEZONE
BEGIN:VEVENT
DTSTART;TZID=America/Toronto:20260929T080000
DTEND;TZID=America/Toronto:20261001T170000
DTSTAMP:20260424T173821
CREATED:20260421T201633Z
LAST-MODIFIED:20260421T201633Z
UID:1003890237-1790668800-1790874000@www.northernminer.com
SUMMARY:Tailings 2026 - Santiago\, Chile
DESCRIPTION:Tailings 2026 offers a forum where executives\, professionals and academics from the global mining industry can learn and analyze the latest developments and best practices in the transportation\, disposal\, control and monitoring of conventional\, thickened\, paste\, and filtered tailing storage facilities.
URL:https://www.northernminer.com/event/tailings-2026-santiago-chile/
LOCATION:Sheraton Santiago Hotel\, Santiago\, Chile
CATEGORIES:Conference,Forum,Information session,Meeting
ATTACH;FMTTYPE=image/png:https://www.northernminer.com/wp-content/uploads/2026/04/Screenshot-194.png
END:VEVENT
END:VCALENDAR