BEGIN:VCALENDAR
VERSION:2.0
PRODID:-//The Northern Miner - ECPv6.5.0.1//NONSGML v1.0//EN
CALSCALE:GREGORIAN
METHOD:PUBLISH
X-ORIGINAL-URL:https://www.northernminer.com
X-WR-CALDESC:Events for The Northern Miner
REFRESH-INTERVAL;VALUE=DURATION:PT1H
X-Robots-Tag:noindex
X-PUBLISHED-TTL:PT1H
BEGIN:VTIMEZONE
TZID:America/Toronto
BEGIN:DAYLIGHT
TZOFFSETFROM:-0500
TZOFFSETTO:-0400
TZNAME:EDT
DTSTART:20170312T070000
END:DAYLIGHT
BEGIN:STANDARD
TZOFFSETFROM:-0400
TZOFFSETTO:-0500
TZNAME:EST
DTSTART:20171105T060000
END:STANDARD
TZID:America/Mexico_City
BEGIN:DAYLIGHT
TZOFFSETFROM:-0600
TZOFFSETTO:-0500
TZNAME:CDT
DTSTART:20170402T080000
END:DAYLIGHT
BEGIN:STANDARD
TZOFFSETFROM:-0500
TZOFFSETTO:-0600
TZNAME:CST
DTSTART:20171029T070000
END:STANDARD
TZID:Africa/Johannesburg
BEGIN:STANDARD
TZOFFSETFROM:+0200
TZOFFSETTO:+0200
TZNAME:SAST
DTSTART:20170101T000000
END:STANDARD
END:VTIMEZONE
BEGIN:VEVENT
DTSTART;VALUE=DATE:20170404
DTEND;VALUE=DATE:20170406
DTSTAMP:20260423T174517
CREATED:20170314T144711Z
LAST-MODIFIED:20170314T145619Z
UID:1003784393-1491264000-1491436799@www.northernminer.com
SUMMARY:9th Annual (2017) Mining Supply Chain Forum
DESCRIPTION:Please note: $207.52 Forum registration will close on March 24\, 2017. Forum tickets will then only be available on site for $413.65. \nThe Saskatchewan Mining Association\, the Saskatchewan Ministry of the Economy and the Saskatchewan Industrial and Mining Suppliers Association presents the 9th Annual Saskatchewan Mining Supply Chain Forum April 4 & 5\, 2017 at Prairieland Park in Saskatoon. \nThis Forum provided information on how manufacturers\, construction\, equipment and service providers can access mining supply opportunities. In addition\, there was a third session on operations topics such as engineering\, maintenance\, reliability\, operations and productivity. \nForum topics have historically included (yet to be finalised for this year): \nAn overview of projects by Saskatchewan mining companies\nInformation on opportunities to supply equipment and services to the mining industry\nThe process and steps to become a supplier to the mining industry\nSeparate sessions on topics such as maintenance\, repair and operations for mine site personnel \nOn Tuesday\, there will be a Mining Innovation Boot Camp featuring presentation by those able to assist in research/development and those able to assist in funding. This event requires an additional ticket – one beyond a Forum registration. The event will flow as follows: \nInnovation Facilitators 2:00 pm – 3:00 pm\nSRC\nU of S\nCLS\nSaskatchewan Polytechnic\nPAMI \n30-minute networking 3:00 pm – 3:30 pm \nInnovation Financing Groups 3:30 pm – 4:30 pm\nIMII\nEDC\nClarence Campeau Development Fund\nNRC/IRAP\nWD \n30-minute networking 4:30 pm – 5:00 pm \nClose 5:00 pm
URL:https://www.northernminer.com/event/9th-annual-2017-mining-supply-chain-forum/
LOCATION:Prairieland Park\, Saskatoon\, Saskatchewan\, Canada
CATEGORIES:Conference
END:VEVENT
BEGIN:VEVENT
DTSTART;TZID=America/Toronto:20170324T080000
DTEND;TZID=America/Toronto:20170324T170000
DTSTAMP:20260423T174517
CREATED:20170324T140347Z
LAST-MODIFIED:20170324T140347Z
UID:1003784775-1490342400-1490374800@www.northernminer.com
SUMMARY:Mines and Money London
DESCRIPTION:With a 14-year history\, Mines and Money London is Europe’s largest mining investment conference and exhibition\, bringing together over 2\,500 attendees from 75 countries. \nSenior executives of 150 mining companies come together with the largest gathering of resource investors anywhere in Europe for four days of learning\, networking and deal-making. \nIt’s where mining and investment professionals come to do business.
URL:https://www.northernminer.com/event/mines-money-london/
LOCATION:Business Design Centre\, 52 Upper St\, London\, United Kingdom
CATEGORIES:Conference
ATTACH;FMTTYPE=image/jpeg:https://www.northernminer.com/wp-content/uploads/2017/03/110122-pic.jpg
ORGANIZER;CN="Mines and Money":MAILTO:bilal.azmat@resourcefulevents.com
END:VEVENT
BEGIN:VEVENT
DTSTART;TZID=America/Toronto:20170308T133000
DTEND;TZID=America/Toronto:20170308T190000
DTSTAMP:20260423T174517
CREATED:20170116T214116Z
LAST-MODIFIED:20170123T143644Z
UID:1003782547-1488979800-1488999600@www.northernminer.com
SUMMARY:CERBA Eurasia Mining conference 2017
DESCRIPTION:CERBA Eurasia Mining conference\nCanada Eurasia Russia Business Association (CERBA)\nMarch 8\, 2017\nRoom 205D\, 1:30 pm – 7:00 pm \nCERBA’s annual Eurasia mining conference will offer a program dedicated to developments in the Eurasian mining sector and mining opportunities for Canadian companies. Experts from business\, purchasing\, government\, diplomatic\, consulting\, academic and non-profit backgrounds will focus on key trends\, constraints and opportunities in Eurasia in the context of today’s dynamic global economy. Individual meeting opportunities available.  \n13:30 – 14:00   	Registration & Coffee \n14:00 – 14:15	       Welcome Remarks: \n•	Lou Naumovski\, CERBA Chairman\n•	H.E. Alexander Darchiev\, Ambassador of the Russian Federation to Canada\n•	Andrew Cheatle\, Executive Director\, PDAC \n14:15 – 16:00		SESSION 1. Mining in Eurasia: Trends\nRegulatory\, tax and legal updates; Global investment programs and practices; Mitigating risks and legal aspects of the mining industry; Evaluating investment opportunities in mining in Eurasia; New international cooperation and investment opportunities; Operational efficiency and innovative solutions \nModerator: 	Lou Naumovski\, Chairman\, CERBA;  \n•	Roman Kopin\, Governor\, Chukotka Autonomous Region\, Russia\n•	Alexey Orel\, Director of the Department of State Policy in the Field of Subsoil Usage and Nature Management\, Ministry of Natural Resources and Ecology of the Russian Federation\n•	Representative of ROSNEDRA\n•	Timur Toktabayev\, Vice-Minister of Investment and Development of Kazakhstan\n•	Representative of Kazgeology (Kazakhstan)\n•	Representative of NADRA Ukraine\n•	Representative of GosComGeology (Uzbekistan)\n•	Ryan Cochrane\, Senior Research Analyst – Mine Costs\, Wood Mackenzie\n•	Aida Sitdikova\, Director\, Energy & Natural Resources\, Russia\, Caucasus & Central Asia\, EBRD \n16:00 – 16:15 	Coffee Break \n16:15 – 18:15	SESSION 2.  Investor Experience in Eurasia\nRegulatory\, tax and legal updates; Global investment programs and practices; Mitigating risks and legal aspects of the mining industry; Evaluating investment opportunities in mining in Eurasia; New international cooperation and investment opportunities; Operational efficiency and innovative solutions \n•	Claude Schimper\, Regional Vice President\, Russia\, Kinross Gold Corp.\n•	Andrey Koniuhov\, COO\, Director of Geology and Advance Projects\, N-Mining\n•	Denis Alexandrov\, CEO\, Highland Gold\n•	Mikhail Dyagilev\, CEO\, Krastsvetmet\n•	Representatives of other mining companies doing business in Eurasia\, such as: Cameco\, Amur Minerals\, Barrick\, Silver Bear Resources\, Uranium One\, Eurasian Minerals \n18:15 – 19:00	Networking Reception and One-on-one Meetings  \nRegistration is required. Please register by visiting www.cerbamining.com or contact us: \nKatherine Balabanova\nRegional Director\, Toronto Chapter\, and National Coordinator\nCanada Eurasia Russia Business Association\nTel: +1 (416) 862-4403\nFirst Canadian Place\n100 King Street West\, Suite 1600\nToronto\, Ontario\, Canada M5X 1G5\nkatherine@cerbanet.org \nJulia Tikhomirova\, CMP\nDeputy Regional Director\nTel: +1 (416) 862-3527\njulia@cerbanet.org
URL:https://www.northernminer.com/event/cerba-eurasia-mining-conference-2017/
LOCATION:New South Wales
CATEGORIES:Conference
END:VEVENT
BEGIN:VEVENT
DTSTART;TZID=America/Toronto:20170216T080000
DTEND;TZID=America/Toronto:20170216T170000
DTSTAMP:20260423T174517
CREATED:20170228T224744Z
LAST-MODIFIED:20170228T224744Z
UID:1003783535-1487232000-1487264400@www.northernminer.com
SUMMARY:AIMS 2017 – Second International Conference Mining in Europe
DESCRIPTION:The key objective of the 2nd International Conference Mining in Europe is to share the latest developments on mining expertise\, activities\, developments and research in Europe and beyond. The international exchange of professionals from industry\, academia and governments helps to gain “knowledge to resource the future“. \nThe Conference will address a series of topics with a focus on\n• Mineral resources\n• Mining technologies\n• Responsible mining \nAuthors are invited to submit abstracts (up to 300 words) for possible inclusion as poster or oral presentation in the Conference program. Abstracts are to be submitted electronically via the Conference portal.\nAbstract submission is due by 1 April 2017. \nKey Notes Speaker are:\nGünter Becker\, Munich Re.;Financial risk management in mining\nTom Butler\, International Council on Mining and Metals\, UK.; Improving the social and environmental per- formance of the mining and metals industry\nOlaf Enger\, MIRO.;The German pit and quarry industry\nGerd Kübler\, K+S.; Challenges of salt and potash mining\nPeter Woods\, International Atomic Energy Agency.;Uranium resources and production
URL:https://www.northernminer.com/event/aims-2017-second-international-conference-mining-europe-2/
LOCATION:PPS Lecture Hall Building RWTH Aachen\, Prof.-Pirlet-Str. 12\, Aachen\, NRW\, 52074
CATEGORIES:Conference
ORGANIZER;CN="MRE RWTH Aachen University":MAILTO:schuemmer@mre.rwth-aachen.de
END:VEVENT
BEGIN:VEVENT
DTSTART;TZID=America/Toronto:20170216T080000
DTEND;TZID=America/Toronto:20170216T170000
DTSTAMP:20260423T174517
CREATED:20170216T153632Z
LAST-MODIFIED:20170216T153632Z
UID:1003783532-1487232000-1487264400@www.northernminer.com
SUMMARY:AIMS 2017 – Second International Conference Mining in Europe
DESCRIPTION:The objective of the 2nd International Conference Mining in Europe is to share the latest developments on mining expertise\, activities\, developments and research in Europe and beyond. The international exchange of professionals from industry\, academia and governments helps to gain “knowledge to resource the future“. \nThe Conference will address a series of topics with a focus on\n• Mineral resources\n• Mining technologies\n• Responsible mining \nAuthors are invited to submit abstracts (up to 300 words) for possible inclusion as poster or oral presentation in the Conference program. Abstracts are to be submitted electronically via the Conference portal.\nAbstract submission is due by 1 April 2017. \nKeynote Speakers are:\nGünter Becker\, Munich Re.;Financial risk management in mining\nTom Butler\, International Council on Mining and Metals\, UK.; Improving the social and environmental per- formance of the mining and metals industry\nOlaf Enger\, MIRO.;The German pit and quarry industry\nGerd Kübler\, K+S.; Challenges of salt and potash mining\nPeter Woods\, International Atomic Energy Agency.;Uranium resources and production
URL:https://www.northernminer.com/event/aims-2017-second-international-conference-mining-europe/
LOCATION:PPS Lecture Hall Building RWTH Aachen\, Prof.-Pirlet-Str. 12\, Aachen\, NRW\, 52074\, Germany
CATEGORIES:Conference
ORGANIZER;CN="MRE RWTH Aachen University":MAILTO:schuemmer@mre.rwth-aachen.de
END:VEVENT
BEGIN:VEVENT
DTSTART;VALUE=DATE:20170207
DTEND;VALUE=DATE:20170210
DTSTAMP:20260423T174517
CREATED:20161217T182137Z
LAST-MODIFIED:20161219T151734Z
UID:1003781764-1486425600-1486684799@www.northernminer.com
SUMMARY:Operational Excellence & Risk Management
DESCRIPTION:The Operational Excellence & Risk Management Summit will bring together over 100 Operations\, HSE and OE leaders to discuss how to best manage human\, asset and environmental risk to deliver consistent operational excellence. \nTaking place in Houston February 7-9\, 2017\, the conference will see keynote speakers from Dow Chemical\, Shell Oil\, Veolia\, NASA\, US Navy\, the Bureau of Safety and Environmental Enforcement – plus over 20 case studies from risk\, operations and EH&S leaders that will show you how to adopt the culture\, systems and processes of the world’s Highest Reliability Organizations. \nAt the 2017 summit you’ll learn how to: \n• Assess – and improve – your company’s safety culture \n• Lay the foundation for OE by establishing principles that begin with safety \n• Improve your OMS to better identify – and eliminate – sources of risk and value loss in your operations \n• Increase risk visibility by optimizing data and information management – and minimize unplanned events \n• Detect whether your work environments\, systems and processes are increasing the likelihood of a risk occurring \n• Benchmark your company against the characteristics of High Reliability Organizations (HROs) \nTo find out more about the event visit the official website www.opexandriskmanagement.com
URL:https://www.northernminer.com/event/operational-excellence-risk-management/
LOCATION:JW Marriott Houston\, 5150 Westheimer Road\, Houston\, TX\, 77056\, United States
CATEGORIES:Conference
ATTACH;FMTTYPE=image/png:https://www.northernminer.com/wp-content/uploads/2016/12/OERM-2017-logo.png
ORGANIZER;CN="IQPC":MAILTO:stefania.fedele@iqpc.co.uk
END:VEVENT
BEGIN:VEVENT
DTSTART;TZID=Africa/Johannesburg:20170206T080000
DTEND;TZID=Africa/Johannesburg:20170209T140000
DTSTAMP:20260423T174517
CREATED:20161121T184406Z
LAST-MODIFIED:20161124T170254Z
UID:1003780963-1486368000-1486648800@www.northernminer.com
SUMMARY:Investing in African Mining Indaba
DESCRIPTION:Investing in African Mining Indaba® remains the preferred deal-making platform for mining in Africa.  It is the world’s largest mining investment event and Africa’s largest mining conference.
URL:https://www.northernminer.com/event/investing-african-mining-indaba/
LOCATION:Cape Town International Convention Center\, Cape Town\, South Africa
CATEGORIES:Conference
ATTACH;FMTTYPE=image/jpeg:https://www.northernminer.com/wp-content/uploads/2016/11/MiningIndaba_NEGATIVE_VerticalLockup_StrapLine-AW.jpg
ORGANIZER;CN="Mining Indaba":MAILTO:info@miningindaba.com
END:VEVENT
BEGIN:VEVENT
DTSTART;TZID=America/Toronto:20170125T080000
DTEND;TZID=America/Toronto:20170125T170000
DTSTAMP:20260423T174517
CREATED:20170125T142141Z
LAST-MODIFIED:20170125T145235Z
UID:1003782777-1485331200-1485363600@www.northernminer.com
SUMMARY:2017 SME Annual Conference & Expo and CMA 119th National Western Mining Conference
DESCRIPTION:The 2017 SME Annual Conference & Expo and CMA 119th National Western Mining Conference provides a forum for more than 6\,500 industry professionals\, from across the world\, to share innovative ideas\, best practices and cutting-edge research in more than 120 sessions along with an expansive marketplace of more than 650 exhibiting companies.
URL:https://www.northernminer.com/event/2017-sme-annual-conference-expo-cma-119th-national-western-mining-conference/
LOCATION:Colorado Convention Center\, Denver\, CO\, United States
CATEGORIES:Conference,Exposition
ORGANIZER;CN="Society for Mining%2C Metallurgy &amp%3B Exploration Inc. (SME)":MAILTO:cs@smenet.org
END:VEVENT
END:VCALENDAR