BEGIN:VCALENDAR
VERSION:2.0
PRODID:-//The Northern Miner - ECPv6.5.0.1//NONSGML v1.0//EN
CALSCALE:GREGORIAN
METHOD:PUBLISH
X-ORIGINAL-URL:https://www.northernminer.com
X-WR-CALDESC:Events for The Northern Miner
REFRESH-INTERVAL;VALUE=DURATION:PT1H
X-Robots-Tag:noindex
X-PUBLISHED-TTL:PT1H
BEGIN:VTIMEZONE
TZID:America/Toronto
BEGIN:DAYLIGHT
TZOFFSETFROM:-0500
TZOFFSETTO:-0400
TZNAME:EDT
DTSTART:20250309T070000
END:DAYLIGHT
BEGIN:STANDARD
TZOFFSETFROM:-0400
TZOFFSETTO:-0500
TZNAME:EST
DTSTART:20251102T060000
END:STANDARD
END:VTIMEZONE
BEGIN:VEVENT
DTSTART;TZID=America/Toronto:20250520T080000
DTEND;TZID=America/Toronto:20250522T170000
DTSTAMP:20260422T045522
CREATED:20241218T173926Z
LAST-MODIFIED:20241218T173926Z
UID:1003874089-1747728000-1747933200@www.northernminer.com
SUMMARY:GRX25 Global Resources Innovation Expo – Brisbane
DESCRIPTION:The Global Resources Innovation Expo (GRX) is expected to draw more than 2\,000 delegates\, 70 mining companies and over 150 exhibitors to its event in Brisbane. Expect to hear some of the most influential voices in technology\, emerging industries\, mining and resources.
URL:https://www.northernminer.com/event/grx25-global-resources-innovation-expo-brisbane/
LOCATION:Brisbane Convention and Exhibition Building\, Brisbane\, Australia
CATEGORIES:Conference,Exposition,Information session
ATTACH;FMTTYPE=image/png:https://www.northernminer.com/wp-content/uploads/2024/12/ut31tllc.png
END:VEVENT
BEGIN:VEVENT
DTSTART;TZID=America/Toronto:20250520T080000
DTEND;TZID=America/Toronto:20250522T170000
DTSTAMP:20260422T045522
CREATED:20250212T213928Z
LAST-MODIFIED:20250212T213928Z
UID:1003875678-1747728000-1747933200@www.northernminer.com
SUMMARY:Arminera 2025 – Buenos Aires\, Argentina
DESCRIPTION:Arminera 2025 is to host representatives of some of the top mining companies in the world for the conference\, which is to focus on how technology is changing the industry. A second portion of the conference on May 23 to 27 consists of a trade mission.
URL:https://www.northernminer.com/event/arminera-2025-buenos-aires-argentina/
LOCATION:La Rural Trade Center\, Buenos Aires\, Argentina
CATEGORIES:Conference,Convention,Exhibition,Trade Show
ATTACH;FMTTYPE=image/png:https://www.northernminer.com/wp-content/uploads/2025/02/tn52goeg.png
END:VEVENT
BEGIN:VEVENT
DTSTART;TZID=America/Toronto:20250520T080000
DTEND;TZID=America/Toronto:20250522T170000
DTSTAMP:20260422T045522
CREATED:20250212T214520Z
LAST-MODIFIED:20250311T164603Z
UID:1003875684-1747728000-1747933200@www.northernminer.com
SUMMARY:2025 Canaccord Genuity Global Metals and Mining Conference - Henderson\, Nev.
DESCRIPTION:The fourth annual Global Metals and Mining Conference will host major companies in the metals and mining space. More information to follow.
URL:https://www.northernminer.com/event/2025-global-metals-and-mining-conference-henderson-nev/
LOCATION:TBA\, Kolwezi\, Congo\, Democratic Republic of the
CATEGORIES:Conference
ATTACH;FMTTYPE=image/png:https://www.northernminer.com/wp-content/uploads/2025/02/Screenshot-112.png
END:VEVENT
END:VCALENDAR