BEGIN:VCALENDAR
VERSION:2.0
PRODID:-//The Northern Miner - ECPv6.5.0.1//NONSGML v1.0//EN
CALSCALE:GREGORIAN
METHOD:PUBLISH
X-WR-CALNAME:The Northern Miner
X-ORIGINAL-URL:https://www.northernminer.com
X-WR-CALDESC:Events for The Northern Miner
REFRESH-INTERVAL;VALUE=DURATION:PT1H
X-Robots-Tag:noindex
X-PUBLISHED-TTL:PT1H
BEGIN:VTIMEZONE
TZID:America/Toronto
BEGIN:DAYLIGHT
TZOFFSETFROM:-0500
TZOFFSETTO:-0400
TZNAME:EDT
DTSTART:20250309T070000
END:DAYLIGHT
BEGIN:STANDARD
TZOFFSETFROM:-0400
TZOFFSETTO:-0500
TZNAME:EST
DTSTART:20251102T060000
END:STANDARD
TZID:America/Vancouver
BEGIN:DAYLIGHT
TZOFFSETFROM:-0800
TZOFFSETTO:-0700
TZNAME:PDT
DTSTART:20250309T100000
END:DAYLIGHT
BEGIN:STANDARD
TZOFFSETFROM:-0700
TZOFFSETTO:-0800
TZNAME:PST
DTSTART:20251102T090000
END:STANDARD
END:VTIMEZONE
BEGIN:VEVENT
DTSTART;TZID=America/Toronto:20251112T080000
DTEND;TZID=America/Toronto:20251113T170000
DTSTAMP:20260420T010058
CREATED:20250501T212256Z
LAST-MODIFIED:20250501T212256Z
UID:1003878182-1762934400-1763053200@www.northernminer.com
SUMMARY:Mining & Critical Minerals Canada Conference and Exhibition - Toronto
DESCRIPTION:The Mining & Critical Minerals Canada Conference & Exhibition will convene in Toronto in November for discussions on investment trends\, exploration opportunities\, ESG\, sustainability goals\, and commodities forecasts. More than 200 senior level executives from international organizations are expected to attend\, as well as government representatives and stakeholders from more than 20 countries.
URL:https://www.northernminer.com/event/mining-critical-minerals-canada-conference-and-exhibition-toronto/
LOCATION:DoubleTree by Hilton Downtown Toronto\, Toronto\, Canada
CATEGORIES:Conference,Convention,Exposition,Networking event
ATTACH;FMTTYPE=image/png:https://www.northernminer.com/wp-content/uploads/2025/05/Screenshot-175.png
END:VEVENT
BEGIN:VEVENT
DTSTART;TZID=America/Vancouver:20251113T183000
DTEND;TZID=America/Vancouver:20251113T233000
DTSTAMP:20260420T010058
CREATED:20251023T181729Z
LAST-MODIFIED:20251023T181729Z
UID:1003883919-1763058600-1763076600@www.northernminer.com
SUMMARY:Mining's Defining Challenge\, Executive Roundtable – Vancouver
DESCRIPTION:Mining’s defining challenge isn’t just productivity today—it’s sustaining it for tomorrow. \nJoin an exclusive group of mining leaders at Black + Blue for a private\, invite-only roundtable dinner discussion led by Henry Lazenby of The Northern Miner. Discussions will focus on balancing short-term pressures with long-term sustainability in productivity\, people\, and performance\, as well as technology\, leadership and social trust. Chatham House Rule will apply. \nDinner and drinks will be provided.
URL:https://www.northernminer.com/event/minings-defining-challenge-executive-roundtable-vancouver/
LOCATION:Black + Blue\, 1032 Alberni St.\, Vancouver\, Canada
CATEGORIES:Forum,Meeting
ATTACH;FMTTYPE=image/png:https://www.northernminer.com/wp-content/uploads/2025/10/efscb3s1.png
END:VEVENT
END:VCALENDAR