BEGIN:VCALENDAR
VERSION:2.0
PRODID:-//The Northern Miner - ECPv6.5.0.1//NONSGML v1.0//EN
CALSCALE:GREGORIAN
METHOD:PUBLISH
X-WR-CALNAME:The Northern Miner
X-ORIGINAL-URL:https://www.northernminer.com
X-WR-CALDESC:Events for The Northern Miner
REFRESH-INTERVAL;VALUE=DURATION:PT1H
X-Robots-Tag:noindex
X-PUBLISHED-TTL:PT1H
BEGIN:VTIMEZONE
TZID:America/Toronto
BEGIN:DAYLIGHT
TZOFFSETFROM:-0500
TZOFFSETTO:-0400
TZNAME:EDT
DTSTART:20250309T070000
END:DAYLIGHT
BEGIN:STANDARD
TZOFFSETFROM:-0400
TZOFFSETTO:-0500
TZNAME:EST
DTSTART:20251102T060000
END:STANDARD
END:VTIMEZONE
BEGIN:VEVENT
DTSTART;TZID=America/Toronto:20251102T133000
DTEND;TZID=America/Toronto:20251105T210000
DTSTAMP:20260420T005306
CREATED:20250821T165911Z
LAST-MODIFIED:20250821T182945Z
UID:1003881784-1762090200-1762376400@www.northernminer.com
SUMMARY:New Orleans Investment Conference 2025
DESCRIPTION:The New Orleans Investment Conference returns in November for its 51st consecutive edition. \nThe three-and-a-half day conference is expected to draw investors from all 50 states and from more than 35 countries. \nThis year’s agenda features speakers including mining investment veteran Rick Rule\, Danielle DiMartino Booth\, Peter Schiff and many more. \nPast speakers at the conference have included Lady Margaret Thatcher\, former President Gerald Ford\, novelist Ayn Rand\, General H. Norman Schwarzkopf\, Nobel Prize-winning economists Milton Friedman and F.A. Hayek\, Dr. Henry Kissinger and many others.
URL:https://www.northernminer.com/event/new-orleans-investment-conference-2025/
LOCATION:Hilton New Orleans Riverside\, New Orleans\, LA\, United States
CATEGORIES:Conference,Keynote Address,Networking event
ATTACH;FMTTYPE=image/png:https://www.northernminer.com/wp-content/uploads/2025/08/dx0ngc5k.png
END:VEVENT
END:VCALENDAR