BEGIN:VCALENDAR
VERSION:2.0
PRODID:-//The Northern Miner - ECPv6.5.0.1//NONSGML v1.0//EN
CALSCALE:GREGORIAN
METHOD:PUBLISH
X-WR-CALNAME:The Northern Miner
X-ORIGINAL-URL:https://www.northernminer.com
X-WR-CALDESC:Events for The Northern Miner
REFRESH-INTERVAL;VALUE=DURATION:PT1H
X-Robots-Tag:noindex
X-PUBLISHED-TTL:PT1H
BEGIN:VTIMEZONE
TZID:America/Toronto
BEGIN:DAYLIGHT
TZOFFSETFROM:-0500
TZOFFSETTO:-0400
TZNAME:EDT
DTSTART:20250309T070000
END:DAYLIGHT
BEGIN:STANDARD
TZOFFSETFROM:-0400
TZOFFSETTO:-0500
TZNAME:EST
DTSTART:20251102T060000
END:STANDARD
END:VTIMEZONE
BEGIN:VEVENT
DTSTART;TZID=America/Toronto:20251027T080000
DTEND;TZID=America/Toronto:20251030T170000
DTSTAMP:20260420T040245
CREATED:20250808T171013Z
LAST-MODIFIED:20250808T171013Z
UID:1003881360-1761552000-1761843600@www.northernminer.com
SUMMARY:Xplor 2025 – Montreal
DESCRIPTION:Xplor returns in October\, bringing together 75 exhibitors and a range of professionals from the mining industry to discuss the latest trends and discover new\, innovative solutions in various workshops \nThe conference draws almost 1\,000 participants every year representing key figures in Quebec’s mining industry. Xplor’s social activities\, such as the Recognition Awards Gala\, have contributed to the success of the past 12 editions.
URL:https://www.northernminer.com/event/xplor-2025-montreal/
LOCATION:Le Westin Montreal\, Montreal\, Quebec\, Canada
CATEGORIES:Conference,Exposition,Forum,Networking event
ATTACH;FMTTYPE=image/png:https://www.northernminer.com/wp-content/uploads/2025/08/Screenshot-2025-06-12-134947.png
END:VEVENT
BEGIN:VEVENT
DTSTART;TZID=America/Toronto:20251028T080000
DTEND;TZID=America/Toronto:20251031T170000
DTSTAMP:20260420T040245
CREATED:20250808T165656Z
LAST-MODIFIED:20250808T165656Z
UID:1003881356-1761638400-1761930000@www.northernminer.com
SUMMARY:China Coal & Mining Expo – Beijing
DESCRIPTION:The China Coal & Mining Expo (CCME) comes to Beijing in October to explore the future of coal mining. This year’s expo features an extended Sustainable Energy equipment showcase of wind\, photovoltaic\, hydrogen and energy storage.
URL:https://www.northernminer.com/event/china-coal-mining-expo-beijing/
LOCATION:China International Exhibition Center\, Beijing\, China
CATEGORIES:Conference,Exposition,Information session
ATTACH;FMTTYPE=image/png:https://www.northernminer.com/wp-content/uploads/2025/08/Screenshot-222.png
END:VEVENT
BEGIN:VEVENT
DTSTART;TZID=America/Toronto:20251029T080000
DTEND;TZID=America/Toronto:20251030T170000
DTSTAMP:20260420T040245
CREATED:20250430T174201Z
LAST-MODIFIED:20250430T174201Z
UID:1003878139-1761724800-1761843600@www.northernminer.com
SUMMARY:Mining & Critical Minerals Americas Conference and Exhibition - Houston\, Texas
DESCRIPTION:The Mining & Critical Minerals America Conference and Exhibition has established itself a as premier international commodities\, critical minerals\, new energy\, AI and technologies show. The event is to focus on investment trends\, exploration opportunities\, nuclear energy\, financing models\, commodities forecasts and technological innovations. Organizers expect more than 300 senior level executives from international organizations to attend\, as well as government representatives and stakeholders from more than 30 countries.
URL:https://www.northernminer.com/event/mining-critical-minerals-americas-conference-and-exhibition-houston-texas/
LOCATION:Hilton Houston Post Oak by the Galleria\, Houston\, TX\, United States
CATEGORIES:Conference,Exhibition,Networking event,Presentation
ATTACH;FMTTYPE=image/png:https://www.northernminer.com/wp-content/uploads/2025/04/Screenshot-172.png
END:VEVENT
END:VCALENDAR