BEGIN:VCALENDAR
VERSION:2.0
PRODID:-//The Northern Miner - ECPv6.5.0.1//NONSGML v1.0//EN
CALSCALE:GREGORIAN
METHOD:PUBLISH
X-ORIGINAL-URL:https://www.northernminer.com
X-WR-CALDESC:Events for The Northern Miner
REFRESH-INTERVAL;VALUE=DURATION:PT1H
X-Robots-Tag:noindex
X-PUBLISHED-TTL:PT1H
BEGIN:VTIMEZONE
TZID:America/Toronto
BEGIN:DAYLIGHT
TZOFFSETFROM:-0500
TZOFFSETTO:-0400
TZNAME:EDT
DTSTART:20250309T070000
END:DAYLIGHT
BEGIN:STANDARD
TZOFFSETFROM:-0400
TZOFFSETTO:-0500
TZNAME:EST
DTSTART:20251102T060000
END:STANDARD
END:VTIMEZONE
BEGIN:VEVENT
DTSTART;TZID=America/Toronto:20250922T080000
DTEND;TZID=America/Toronto:20250926T170000
DTSTAMP:20260420T000706
CREATED:20250212T215149Z
LAST-MODIFIED:20250212T215149Z
UID:1003875689-1758528000-1758906000@www.northernminer.com
SUMMARY:Extemin 2025 – Arequipa\, Peru
DESCRIPTION:Extemin 2025\, the largest mining trade show in Peru\, is expected to bring together hundreds of exhibiting companies as they show the latest innovative solutions offer collaboration to advance the mining industry.
URL:https://www.northernminer.com/event/extemin-2025-arequipa-peru/
LOCATION:TBA\, Kolwezi\, Congo\, Democratic Republic of the
CATEGORIES:Convention,Exhibition
ATTACH;FMTTYPE=image/png:https://www.northernminer.com/wp-content/uploads/2025/02/Screenshot-113.png
END:VEVENT
BEGIN:VEVENT
DTSTART;TZID=America/Toronto:20250923T080000
DTEND;TZID=America/Toronto:20250924T170000
DTSTAMP:20260420T000706
CREATED:20250808T154802Z
LAST-MODIFIED:20250819T145151Z
UID:1003881348-1758614400-1758733200@www.northernminer.com
SUMMARY:Rare Earths Mines\, Magnets and Motors 2025 – Toronto
DESCRIPTION:The Rare Earths Mines\, Magnets and Motors conference returns to Toronto in September\, featuring special guest Steve Wozniak\, the legendary tech icon and co-founder of Apple. \nHear about his infamous partnership with Steve Jobs\, his views on innovation and creativity\, and his personal thoughts on the future of technology. \nThe conference will also discuss potential parallels with the tech world that can be drawn in relation to the outlook for robotics\, automation and advanced air mobility. \nThe event will bring together major participants from across the mine-to-OEM supply chain\, with world class speakers\, networking events and actionable insights.
URL:https://www.northernminer.com/event/rare-earths-mines-magnets-and-motors-2025-toronto/
LOCATION:Ritz-Carlton Toronto\, Toronto\, Canada
CATEGORIES:Conference,Information session,Keynote Address,Networking event
ATTACH;FMTTYPE=image/png:https://www.northernminer.com/wp-content/uploads/2025/08/Register-Now-Adamas-REM3-2025.png
END:VEVENT
BEGIN:VEVENT
DTSTART;TZID=America/Toronto:20250923T080000
DTEND;TZID=America/Toronto:20250925T170000
DTSTAMP:20260420T000706
CREATED:20250806T161843Z
LAST-MODIFIED:20250806T161843Z
UID:1003881253-1758614400-1758819600@www.northernminer.com
SUMMARY:Asia-Pacific's International Mining Exhibition 2025 – Adelaide\, Australia
DESCRIPTION:Australia’s longest running mining show\, Asia-Pacific’s International Mining Exhibition (AIMEX) will this year relocate to South Australia home for the next 10 years. This move marks an exciting new chapter for the event and the region’s resource sector\, with the state leading the way in future-focused mining. \nThe new edition of AIMEX brings an expanded floorplan with outdoor availability and new verticals including Transformative Technology and the Research and Development Hub. \nAIMEX offers unparalleled opportunities to connect with Asia-Pacific’s largest community of mining suppliers and professionals in an environment that stimulates innovation and collaboration. \nThousands of mining delegates from Australia and around the world will make their way to Adelaide for the three-day exhibition.
URL:https://www.northernminer.com/event/asia-pacifics-international-mining-exhibition-2025-adelaide-australia/
LOCATION:Adelaide Showground\, Adelaide\, Australia
CATEGORIES:Convention,Exhibition,Networking event
ATTACH;FMTTYPE=image/png:https://www.northernminer.com/wp-content/uploads/2025/08/Screenshot-219.png
END:VEVENT
BEGIN:VEVENT
DTSTART;TZID=America/Toronto:20250924T080000
DTEND;TZID=America/Toronto:20250925T170000
DTSTAMP:20260420T000706
CREATED:20250709T165423Z
LAST-MODIFIED:20250709T165423Z
UID:1003880298-1758700800-1758819600@www.northernminer.com
SUMMARY:121 Mining Investment - Hong Kong
DESCRIPTION:121 Mining Investment comes to Hong Kong for its September edition\, with two days of 1-2-1 meetings running alongside an agenda packed with the expert insight from leading institutional investors and analysts. \nThe event brings together the global junior mining ecosystem and provides unrivalled opportunity for investors and miners to connect efficiently and effectively.
URL:https://www.northernminer.com/event/121-mining-investment-hong-kong-2/
LOCATION:Island Shangri-la Hong Kong\, Hong Kong\, Hong Kong
CATEGORIES:Meeting,Networking event
ATTACH;FMTTYPE=image/png:https://www.northernminer.com/wp-content/uploads/2025/07/hk2025septrimmed.png
END:VEVENT
END:VCALENDAR