BEGIN:VCALENDAR
VERSION:2.0
PRODID:-//The Northern Miner - ECPv6.5.0.1//NONSGML v1.0//EN
CALSCALE:GREGORIAN
METHOD:PUBLISH
X-WR-CALNAME:The Northern Miner
X-ORIGINAL-URL:https://www.northernminer.com
X-WR-CALDESC:Events for The Northern Miner
REFRESH-INTERVAL;VALUE=DURATION:PT1H
X-Robots-Tag:noindex
X-PUBLISHED-TTL:PT1H
BEGIN:VTIMEZONE
TZID:America/Toronto
BEGIN:DAYLIGHT
TZOFFSETFROM:-0500
TZOFFSETTO:-0400
TZNAME:EDT
DTSTART:20250309T070000
END:DAYLIGHT
BEGIN:STANDARD
TZOFFSETFROM:-0400
TZOFFSETTO:-0500
TZNAME:EST
DTSTART:20251102T060000
END:STANDARD
END:VTIMEZONE
BEGIN:VEVENT
DTSTART;TZID=America/Toronto:20250504T080000
DTEND;TZID=America/Toronto:20250507T170000
DTSTAMP:20260420T034030
CREATED:20241030T162653Z
LAST-MODIFIED:20241030T163055Z
UID:1003872769-1746345600-1746637200@www.northernminer.com
SUMMARY:CIM CONNECT 2025 - Montreal
DESCRIPTION:Presented under the theme “Minerals\, Innovation\, and the Energy Transition”\, CIM Connect 2025 offers three days of immersive learning and knowledge sharing\, enhanced by professional development courses preceding the convention. A wide-ranging trade show will feature companies presenting the latest products and services\, creating a unique opportunity for networking and discovery.
URL:https://www.northernminer.com/event/cim-connect-2025-montreal/
LOCATION:Palais des Congres de Montreal\, Montreal\, Quebec\, Canada
CATEGORIES:Convention,Exposition
ATTACH;FMTTYPE=image/png:https://www.northernminer.com/wp-content/uploads/2024/10/Screenshot-31.png
END:VEVENT
END:VCALENDAR