BEGIN:VCALENDAR
VERSION:2.0
PRODID:-//The Northern Miner - ECPv6.5.0.1//NONSGML v1.0//EN
CALSCALE:GREGORIAN
METHOD:PUBLISH
X-WR-CALNAME:The Northern Miner
X-ORIGINAL-URL:https://www.northernminer.com
X-WR-CALDESC:Events for The Northern Miner
REFRESH-INTERVAL;VALUE=DURATION:PT1H
X-Robots-Tag:noindex
X-PUBLISHED-TTL:PT1H
BEGIN:VTIMEZONE
TZID:America/Toronto
BEGIN:DAYLIGHT
TZOFFSETFROM:-0500
TZOFFSETTO:-0400
TZNAME:EDT
DTSTART:20240310T070000
END:DAYLIGHT
BEGIN:STANDARD
TZOFFSETFROM:-0400
TZOFFSETTO:-0500
TZNAME:EST
DTSTART:20241103T060000
END:STANDARD
END:VTIMEZONE
BEGIN:VEVENT
DTSTART;TZID=America/Toronto:20240924T080000
DTEND;TZID=America/Toronto:20240926T170000
DTSTAMP:20260423T063722
CREATED:20231120T213038Z
LAST-MODIFIED:20231120T213038Z
UID:1003861059-1727164800-1727370000@www.northernminer.com
SUMMARY:MINExpo International – Las Vegas
DESCRIPTION:MINExpo International brings together the latest products and technologies in the industry to maximize productivity and safety. The conference focuses on machinery\, innovation and essential resources integrating each element of the industry from exploration to processing to reclamation. \nRegistration opens in early 2024.
URL:https://www.northernminer.com/event/minexpo-international-las-vegas/
LOCATION:Las Vegas Convention Center\, Las Vegas\, NV\, United States
CATEGORIES:Conference,Convention,Exhibition
ATTACH;FMTTYPE=image/png:https://www.northernminer.com/wp-content/uploads/2023/11/Screenshot-1365.png
END:VEVENT
BEGIN:VEVENT
DTSTART;TZID=America/Toronto:20240925T080000
DTEND;TZID=America/Toronto:20240927T170000
DTSTAMP:20260423T063722
CREATED:20240719T200614Z
LAST-MODIFIED:20240719T200614Z
UID:1003869787-1727251200-1727456400@www.northernminer.com
SUMMARY:Rare Earth Mines\, Magnets and Motors 2024 - Toronto
DESCRIPTION:The two-day conference on rare earths will host major players from across the mine-to-motor supply chain for important discussions on the state of emerging supply chains\, the outlook for demand and the implications of evolving geopolitical forces. \nOutside of the daily conference program\, there will be two evening networking events\, including a private Welcome Reception at the Hockey Hall of Fame.
URL:https://www.northernminer.com/event/rare-earth-mines-magnets-and-motors-2024-toronto/
LOCATION:Fairmont Royal York\, Toronto\, Ontario\, Canada
CATEGORIES:Conference,Forum,Information session,Keynote Address,Networking event
ATTACH;FMTTYPE=image/jpeg:https://www.northernminer.com/wp-content/uploads/2024/07/AdobeStock_658654791-1600x897-1.jpeg
END:VEVENT
END:VCALENDAR