BEGIN:VCALENDAR
VERSION:2.0
PRODID:-//The Northern Miner - ECPv6.5.0.1//NONSGML v1.0//EN
CALSCALE:GREGORIAN
METHOD:PUBLISH
X-ORIGINAL-URL:https://www.northernminer.com
X-WR-CALDESC:Events for The Northern Miner
REFRESH-INTERVAL;VALUE=DURATION:PT1H
X-Robots-Tag:noindex
X-PUBLISHED-TTL:PT1H
BEGIN:VTIMEZONE
TZID:America/Toronto
BEGIN:DAYLIGHT
TZOFFSETFROM:-0500
TZOFFSETTO:-0400
TZNAME:EDT
DTSTART:20240310T070000
END:DAYLIGHT
BEGIN:STANDARD
TZOFFSETFROM:-0400
TZOFFSETTO:-0500
TZNAME:EST
DTSTART:20241103T060000
END:STANDARD
END:VTIMEZONE
BEGIN:VEVENT
DTSTART;TZID=America/Toronto:20240707T080000
DTEND;TZID=America/Toronto:20240711T170000
DTSTAMP:20260423T063758
CREATED:20240620T220320Z
LAST-MODIFIED:20240620T220934Z
UID:1003868791-1720339200-1720717200@www.northernminer.com
SUMMARY:Rule Symposium on Natural Resource Investing – Boca Raton
DESCRIPTION:The Rule Symposium on Natural Resource Investing\, presented by veteran investor Rick Rule will connect attendees with the industry’s top experts in resources and commodities. \nDozens of insiders\, executives\, high net-worth investment experts are expected to attend.
URL:https://www.northernminer.com/event/rule-symposium-on-natural-resource-investing-boca-raton/
CATEGORIES:Conference,Symposium
ATTACH;FMTTYPE=image/png:https://www.northernminer.com/wp-content/uploads/2024/06/khumlpkq.png
END:VEVENT
END:VCALENDAR