BEGIN:VCALENDAR
VERSION:2.0
PRODID:-//The Northern Miner - ECPv6.5.0.1//NONSGML v1.0//EN
CALSCALE:GREGORIAN
METHOD:PUBLISH
X-ORIGINAL-URL:https://www.northernminer.com
X-WR-CALDESC:Events for The Northern Miner
REFRESH-INTERVAL;VALUE=DURATION:PT1H
X-Robots-Tag:noindex
X-PUBLISHED-TTL:PT1H
BEGIN:VTIMEZONE
TZID:America/Toronto
BEGIN:DAYLIGHT
TZOFFSETFROM:-0500
TZOFFSETTO:-0400
TZNAME:EDT
DTSTART:20240310T070000
END:DAYLIGHT
BEGIN:STANDARD
TZOFFSETFROM:-0400
TZOFFSETTO:-0500
TZNAME:EST
DTSTART:20241103T060000
END:STANDARD
END:VTIMEZONE
BEGIN:VEVENT
DTSTART;TZID=America/Toronto:20240611T080000
DTEND;TZID=America/Toronto:20240613T170000
DTSTAMP:20260423T152315
CREATED:20240130T213436Z
LAST-MODIFIED:20240130T213436Z
UID:1003863360-1718092800-1718298000@www.northernminer.com
SUMMARY:Indonesia Critical Minerals Conference and Expo - Jakarta
DESCRIPTION:The Indonesia Critical Minerals Conference 2024 will focus specifically on new energy vehicles (NEVs) and the nickel and cobalt value chain. The event also includes three sub-conferences on coal\, aluminum and bauxite\, and tin. Organizers expect the total number of delegates will exceed 1\,000.
URL:https://www.northernminer.com/event/indonesia-critical-minerals-conference-and-expo-jakarta/
LOCATION:TBA\, Kolwezi\, Congo\, Democratic Republic of the
CATEGORIES:Conference,Convention,Exposition,Information session,Networking event
ATTACH;FMTTYPE=image/png:https://www.northernminer.com/wp-content/uploads/2024/01/Screenshot-1410.png
END:VEVENT
BEGIN:VEVENT
DTSTART;TZID=America/Toronto:20240612T080000
DTEND;TZID=America/Toronto:20240614T170000
DTSTAMP:20260423T152315
CREATED:20240418T214210Z
LAST-MODIFIED:20240418T214210Z
UID:1003866480-1718179200-1718384400@www.northernminer.com
SUMMARY:10th International Conference on Tailings Management – Santiago\, Chile
DESCRIPTION:Tailings 2024 will host executives\, professionals and academics from the mining industry to learn and analyze the latest developments and best practices in the transportation\, disposal\, control and monitoring of conventional\, thickened\, paste and filtered tailing storage facilities.
URL:https://www.northernminer.com/event/10th-international-conference-on-tailings-management-santiago-chile/
LOCATION:Sheraton Santiago\, Santiago\, Chile
CATEGORIES:Conference,Convention
ATTACH;FMTTYPE=image/png:https://www.northernminer.com/wp-content/uploads/2024/04/Screenshot-1441.png
END:VEVENT
END:VCALENDAR