BEGIN:VCALENDAR
VERSION:2.0
PRODID:-//The Northern Miner - ECPv6.5.0.1//NONSGML v1.0//EN
CALSCALE:GREGORIAN
METHOD:PUBLISH
X-WR-CALNAME:The Northern Miner
X-ORIGINAL-URL:https://www.northernminer.com
X-WR-CALDESC:Events for The Northern Miner
REFRESH-INTERVAL;VALUE=DURATION:PT1H
X-Robots-Tag:noindex
X-PUBLISHED-TTL:PT1H
BEGIN:VTIMEZONE
TZID:America/Toronto
BEGIN:DAYLIGHT
TZOFFSETFROM:-0500
TZOFFSETTO:-0400
TZNAME:EDT
DTSTART:20240310T070000
END:DAYLIGHT
BEGIN:STANDARD
TZOFFSETFROM:-0400
TZOFFSETTO:-0500
TZNAME:EST
DTSTART:20241103T060000
END:STANDARD
END:VTIMEZONE
BEGIN:VEVENT
DTSTART;TZID=America/Toronto:20240205T080000
DTEND;TZID=America/Toronto:20240206T170000
DTSTAMP:20260423T203638
CREATED:20231208T222205Z
LAST-MODIFIED:20231208T222219Z
UID:1003861816-1707120000-1707238800@www.northernminer.com
SUMMARY:Mining 121 – Cape Town
DESCRIPTION:121 Mining Investment Cape Town returns in February for two days of meetings between representatives of 125 mining companies and more than 550 investors.
URL:https://www.northernminer.com/event/mining-121-cape-town/
LOCATION:The Welgemeend\, Cape Town\, South Africa
CATEGORIES:Meeting,Networking event
ATTACH;FMTTYPE=image/png:https://www.northernminer.com/wp-content/uploads/2023/12/Screenshot-1390.png
END:VEVENT
BEGIN:VEVENT
DTSTART;TZID=America/Toronto:20240205T080000
DTEND;TZID=America/Toronto:20240208T170000
DTSTAMP:20260423T203638
CREATED:20231102T184402Z
LAST-MODIFIED:20231102T184402Z
UID:1003860339-1707120000-1707411600@www.northernminer.com
SUMMARY:Mining Indaba 2024 - Cape Town
DESCRIPTION:Mining Indaba returns in February for its 30th anniversary! \nThe four-day event will focus on the theme ‘Embracing the power of positive disruption: A bold new future for African mining’ and will support the change the African mining industry needs to advance. \nThe event is expected to draw more than 8\,000 attendees\, 900 investors\, 700 mining executives and 470 junior mining executives.
URL:https://www.northernminer.com/event/mining-indaba-2024-cape-town/
LOCATION:: Cape Town International Convention  Centre\, Cape Town\, South Africa
CATEGORIES:Conference,Convention,Exhibition,Forum,Information session,Keynote Address
ATTACH;FMTTYPE=image/jpeg:https://www.northernminer.com/wp-content/uploads/2023/11/OIP-2.jpg
END:VEVENT
END:VCALENDAR