BEGIN:VCALENDAR
VERSION:2.0
PRODID:-//The Northern Miner - ECPv6.5.0.1//NONSGML v1.0//EN
CALSCALE:GREGORIAN
METHOD:PUBLISH
X-WR-CALNAME:The Northern Miner
X-ORIGINAL-URL:https://www.northernminer.com
X-WR-CALDESC:Events for The Northern Miner
REFRESH-INTERVAL;VALUE=DURATION:PT1H
X-Robots-Tag:noindex
X-PUBLISHED-TTL:PT1H
BEGIN:VTIMEZONE
TZID:America/Toronto
BEGIN:DAYLIGHT
TZOFFSETFROM:-0500
TZOFFSETTO:-0400
TZNAME:EDT
DTSTART:20240310T070000
END:DAYLIGHT
BEGIN:STANDARD
TZOFFSETFROM:-0400
TZOFFSETTO:-0500
TZNAME:EST
DTSTART:20241103T060000
END:STANDARD
END:VTIMEZONE
BEGIN:VEVENT
DTSTART;TZID=America/Toronto:20240129T080000
DTEND;TZID=America/Toronto:20240130T170000
DTSTAMP:20260423T203557
CREATED:20231208T221609Z
LAST-MODIFIED:20231208T221609Z
UID:1003861812-1706515200-1706634000@www.northernminer.com
SUMMARY:Future Mine and Mineral Conference – Stockholm\, Sweden
DESCRIPTION:The Future Mine and Mineral conference returns in 2024\, in cooperation with the Geological Survey of Sweden and Nordic Publishing. The event provides a forum for networking and sharing business intelligence on the mining and exploration sector. Nordic representatives from the mining\, business\, technology and political sectors will join the two-day conference.
URL:https://www.northernminer.com/event/future-mine-and-mineral-conference-stockholm-sweden/
LOCATION:Grand Hotel\, Stockholm\, Sweden
CATEGORIES:Conference,Exhibition,Forum,Keynote Address
ATTACH;FMTTYPE=image/png:https://www.northernminer.com/wp-content/uploads/2023/12/Screenshot-1389.png
END:VEVENT
END:VCALENDAR