BEGIN:VCALENDAR
VERSION:2.0
PRODID:-//The Northern Miner - ECPv6.5.0.1//NONSGML v1.0//EN
CALSCALE:GREGORIAN
METHOD:PUBLISH
X-ORIGINAL-URL:https://www.northernminer.com
X-WR-CALDESC:Events for The Northern Miner
REFRESH-INTERVAL;VALUE=DURATION:PT1H
X-Robots-Tag:noindex
X-PUBLISHED-TTL:PT1H
BEGIN:VTIMEZONE
TZID:America/Toronto
BEGIN:DAYLIGHT
TZOFFSETFROM:-0500
TZOFFSETTO:-0400
TZNAME:EDT
DTSTART:20230312T070000
END:DAYLIGHT
BEGIN:STANDARD
TZOFFSETFROM:-0400
TZOFFSETTO:-0500
TZNAME:EST
DTSTART:20231105T060000
END:STANDARD
END:VTIMEZONE
BEGIN:VEVENT
DTSTART;TZID=America/Toronto:20231003T080000
DTEND;TZID=America/Toronto:20231006T170000
DTSTAMP:20260424T074814
CREATED:20230905T135759Z
LAST-MODIFIED:20230905T135759Z
UID:1003858356-1696320000-1696611600@www.northernminer.com
SUMMARY:LIAMforum 2023 (online)
DESCRIPTION:LIAMforum\, an online conference on sustainable resource development returns for its second year on Oct. 3-6.  \nThis event highlights the essential role that Gen Zs will play in the transition to a greener world and focuses on changing the perception young people have of the mining sector. \nThis year’s LIAMforum brings together dozens of speakers from mining\, technology\, media\, academia and government. \nThe free\, online conference will run on Eastern Daylight time.
URL:https://www.northernminer.com/event/liamforum-2023-online/
LOCATION:Online\, Canada
CATEGORIES:Conference,Forum,Keynote Address
ATTACH;FMTTYPE=image/png:https://www.northernminer.com/wp-content/uploads/2023/09/Screenshot-1141.png
ORGANIZER;CN="LIAMforum":MAILTO:info@liamforum.com
END:VEVENT
BEGIN:VEVENT
DTSTART;TZID=America/Toronto:20231004T080000
DTEND;TZID=America/Toronto:20231006T170000
DTSTAMP:20260424T074815
CREATED:20230714T211723Z
LAST-MODIFIED:20230714T211723Z
UID:1003856824-1696406400-1696611600@www.northernminer.com
SUMMARY:MINEX - Tehran
DESCRIPTION:The annual MINEX (Iran’s Mines and Mining Industries Exhibition) is one of the largest mining events in the Middle East. The event presents the latest technologies\, equipment and services for exploration\, excavation\, processing\, production and export as well as introducing investment opportunities in Iran international mining companies. \n 
URL:https://www.northernminer.com/event/minex-tehran/
LOCATION:Shabestan-Imam Khomeini Mosalla\, Tehran\, Iran\, Islamic Republic of
CATEGORIES:Conference,Convention,Exhibition,Information session
ATTACH;FMTTYPE=image/png:https://www.northernminer.com/wp-content/uploads/2023/07/Screenshot-1096.png
END:VEVENT
END:VCALENDAR