BEGIN:VCALENDAR
VERSION:2.0
PRODID:-//The Northern Miner - ECPv6.5.0.1//NONSGML v1.0//EN
CALSCALE:GREGORIAN
METHOD:PUBLISH
X-ORIGINAL-URL:https://www.northernminer.com
X-WR-CALDESC:Events for The Northern Miner
REFRESH-INTERVAL;VALUE=DURATION:PT1H
X-Robots-Tag:noindex
X-PUBLISHED-TTL:PT1H
BEGIN:VTIMEZONE
TZID:America/Toronto
BEGIN:DAYLIGHT
TZOFFSETFROM:-0500
TZOFFSETTO:-0400
TZNAME:EDT
DTSTART:20230312T070000
END:DAYLIGHT
BEGIN:STANDARD
TZOFFSETFROM:-0400
TZOFFSETTO:-0500
TZNAME:EST
DTSTART:20231105T060000
END:STANDARD
END:VTIMEZONE
BEGIN:VEVENT
DTSTART;VALUE=DATE:20230917
DTEND;VALUE=DATE:20230921
DTSTAMP:20260425T093701
CREATED:20230516T195157Z
LAST-MODIFIED:20230516T195157Z
UID:1003855147-1694908800-1695254399@www.northernminer.com
SUMMARY:35th Annual Gold Forum Americas
DESCRIPTION:The Gold Forum Americas 2023 event will host specialist precious metal investors\, generalist institutional investors as well as investors from private equity and hedge funds.
URL:https://www.northernminer.com/event/35th-annual-gold-forum-americas/
LOCATION:Broadmoor Hotel and Resort\, Colorado Springs\, CO\, United States
CATEGORIES:Conference,Forum
END:VEVENT
BEGIN:VEVENT
DTSTART;TZID=America/Toronto:20230918T080000
DTEND;TZID=America/Toronto:20230920T170000
DTSTAMP:20260425T093701
CREATED:20230613T133831Z
LAST-MODIFIED:20230613T134031Z
UID:1003855886-1695024000-1695229200@www.northernminer.com
SUMMARY:Iron Ore Conference 2023
DESCRIPTION:Iron Ore Conference 2023 welcomes attendees from around the world to Perth\, Australia to explore the newest developments and discuss challenges facing technical and management aspects of the iron ore industry. \nCo-hosted by AusIMM and CSIRO\, discussions will centre on genesis\, geology\, exploration\, mining and processing of iron ores\, offering solutions to address the carbon footprint of iron and steel mining.
URL:https://www.northernminer.com/event/iron-ore-conference-2023/
LOCATION:Perth Convention and Exhibition Centre\, Perth\, Australia
CATEGORIES:Conference,Forum,Information session,Keynote Address,Networking event
ATTACH;FMTTYPE=image/png:https://www.northernminer.com/wp-content/uploads/2023/06/Screenshot-1039.png
END:VEVENT
BEGIN:VEVENT
DTSTART;TZID=America/Toronto:20230919T080000
DTEND;TZID=America/Toronto:20230920T170000
DTSTAMP:20260425T093701
CREATED:20230719T141156Z
LAST-MODIFIED:20230721T202404Z
UID:1003856943-1695110400-1695229200@www.northernminer.com
SUMMARY:Mining 121 Energy & Investment - Singapore
DESCRIPTION:Mining companies and investors will meet in Singapore in September for two-days of 1-on-1 meetings matching projects to investment capital\, a conference program full of market intelligence and investment ideas. The event will bring together CEOs from mining companies and investors from across the Australia and Asia. \nMore information to come.
URL:https://www.northernminer.com/event/mining-121-singapore/
CATEGORIES:Conference,Forum,Networking event
ATTACH;FMTTYPE=image/png:https://www.northernminer.com/wp-content/uploads/2023/07/Screenshot-1100.png
END:VEVENT
BEGIN:VEVENT
DTSTART;TZID=America/Toronto:20230920T080000
DTEND;TZID=America/Toronto:20230922T170000
DTSTAMP:20260425T093701
CREATED:20230719T142440Z
LAST-MODIFIED:20230719T142440Z
UID:1003856948-1695196800-1695402000@www.northernminer.com
SUMMARY:28th Central Asian International Mining Exploration and Mining Equipment Exhibition – Almaty\, Kazakhstan
DESCRIPTION:The exhibition showcases Kazakhstani and foreign manufacturers of equipment\, services\, and developments in the field of mining and metallurgy. The event also facilitates expanding of business contacts of manufacturers and suppliers with the specialists of mining enterprises\, mining and processing works\, wholesale trade companies and other representatives of the industry.
URL:https://www.northernminer.com/event/28th-central-asian-international-mining-exploration-and-mining-equipment-exhibition-almaty-kazakhstan/
LOCATION:Atakent International Exhibition Centre\, Astana\, Kazakhstan
CATEGORIES:Conference,Convention,Exhibition
ATTACH;FMTTYPE=image/jpeg:https://www.northernminer.com/wp-content/uploads/2023/07/csm_mining-metals-central-asia_c3dd0d72ac.jpg
END:VEVENT
END:VCALENDAR