BEGIN:VCALENDAR
VERSION:2.0
PRODID:-//The Northern Miner - ECPv6.5.0.1//NONSGML v1.0//EN
CALSCALE:GREGORIAN
METHOD:PUBLISH
X-ORIGINAL-URL:https://www.northernminer.com
X-WR-CALDESC:Events for The Northern Miner
REFRESH-INTERVAL;VALUE=DURATION:PT1H
X-Robots-Tag:noindex
X-PUBLISHED-TTL:PT1H
BEGIN:VTIMEZONE
TZID:America/Toronto
BEGIN:DAYLIGHT
TZOFFSETFROM:-0500
TZOFFSETTO:-0400
TZNAME:EDT
DTSTART:20230312T070000
END:DAYLIGHT
BEGIN:STANDARD
TZOFFSETFROM:-0400
TZOFFSETTO:-0500
TZNAME:EST
DTSTART:20231105T060000
END:STANDARD
END:VTIMEZONE
BEGIN:VEVENT
DTSTART;TZID=America/Toronto:20230912T080000
DTEND;TZID=America/Toronto:20230915T170000
DTSTAMP:20260424T154619
CREATED:20230418T190719Z
LAST-MODIFIED:20230418T190719Z
UID:1003854303-1694505600-1694797200@www.northernminer.com
SUMMARY:2023 Precious Metals Summit Beaver Creek
DESCRIPTION:The Precious Metals Summit Beaver Creek is the world’s premier independent investment conference focused on explorers\, developers and emerging producers of gold\, silver and platinum group metals.
URL:https://www.northernminer.com/event/2023-precious-metals-summit-beaver-creek/
LOCATION:Beaver Creek Resort
END:VEVENT
BEGIN:VEVENT
DTSTART;TZID=America/Toronto:20230913T080000
DTEND;TZID=America/Toronto:20230916T170000
DTSTAMP:20260424T154619
CREATED:20230720T152811Z
LAST-MODIFIED:20230721T193112Z
UID:1003857005-1694592000-1694883600@www.northernminer.com
SUMMARY:International Mining and Minerals Recovery Exhibition and Conference – Jakarta
DESCRIPTION:The 21st edition of Mining Indonesia’s Mining and Minerals Recovery Exhibition and Conference is Asia’s largest international mining equipment exhibition and provides a professional platform for Indonesia’s mining industry to do business. \n\n\n\nThe event attracts industry leaders and key players in the global mining industry to showcase the latest products and services in the Jakarta International Expo.
URL:https://www.northernminer.com/event/international-mining-and-minerals-recovery-exhibition-and-conference-jakarta/
LOCATION:Jakarta International Expo\, Jakarta\, Indonesia
CATEGORIES:Conference,Convention,Exhibition,Networking event
ATTACH;FMTTYPE=image/png:https://www.northernminer.com/wp-content/uploads/2023/07/Screenshot-1104.png
END:VEVENT
END:VCALENDAR